BEGIN:VCALENDAR
VERSION:2.0
PRODID:-//ChamberMaster//Event Calendar 2.0//EN
METHOD:PUBLISH
X-PUBLISHED-TTL:P3D
REFRESH-INTERVAL:P3D
CALSCALE:GREGORIAN
BEGIN:VEVENT
DTSTART:20111009T170000Z
DTEND:20111009T230000Z
X-MICROSOFT-CDO-ALLDAYEVENT:FALSE
SUMMARY:Charity Food Drive by Combat Fitness for Shelby Co VFS BackPack Buddies
DESCRIPTION:COMBAT FITNESS TRAINING FACILITY'S\n\n	4\,000 WAYS TO MESS UP A 10-MILE RUN ENDURANCE CHARITY EVENT\n\n	BENEFITTING THE "BACK PACK BUDDIES" FOOD PROGRAM\n\n	SUNDAY OCTOBER 9\, 2011\n\n	NOON - UNTIL COMPLETE\n\n	 \n\n	WHO:\n\n	Sean Dickson\, owner/operator of: \n\n	Combat Fitness Training Facility\n\n	2048 ValleyDale Terrace\n\n	Birmingham\, AL 35244\n\n	205-994-0721\n\n	www.CombatFitnessTrainingFacility.com\n\n	 \n\n	WHAT:\n\n	Sean will conduct and endurance workout consisting of\;\n\n	40 Rounds:\n\n	\n		400 Meter Run\n	\n		Push Up X25 Repetitions\n	\n		Body Squat X25 Repetitions\n	\n		Sit Up X25 Repetitions\n	\n		Burpee X25 Repetitions\n\n\n	*Totaling: \n\n	10 Miles of running and 1\,000 Repetitions of each exercise AS FAST AS HE CAN\n\n	Estimated Time= 6 Hours\n\n	 \n\n	WHEN:\n\n	Sunday. October 9\, 2011. Noon-Until Complete (estimate of 6 hours)\n\n	 \n\n	WHERE:\n\n	Veteran's Park at 4800 ValleyDale Road. Hoover\, AL 35244 (in front of Spain Park High School)\n\n	 \n\n	WHY:\n\n	In order to raise awareness for the "Back Pack Buddies" food program that is run by the Vineyard Family Services based out of the Vineyard Church in Hoover\,AL. This Endurance Charity Event will allow us to provide a venue for the local community to drop off the necessary food items for the program and be educated on the need for continued support of this service.\n\n	 \n\n	GOAL: One food item for every repetition = 4000 food items acquired. Accepted Food Items are :\n\n\n\n	Ravioli or other pop-top type meal \n\n	Granola Bars\n\n	Oatmeal or Grits\n\n	Applesauce or Fruit Cups\n\n	100% Juice Boxes\n\n	Pudding Cups\n\n	Cheese or Peanut Butter Crackers
X-ALT-DESC;FMTTYPE=text/html:<p style="margin: 0.0px 0.0px 0.0px 0.0px\; text-align: center\; font: 18.0px Batik Regular\; color: #a40800">\n	<span style="letter-spacing: 0.0px">COMBAT FITNESS TRAINING FACILITY&rsquo\;S</span></p>\n<p style="margin: 0.0px 0.0px 0.0px 0.0px\; text-align: center\; font: 20.0px Cracked\; color: #fcbd00">\n	<span style="letter-spacing: 0.0px">4\,000 WAYS TO MESS UP A 10-MILE RUN ENDURANCE CHARITY EVENT</span></p>\n<p style="margin: 0.0px 0.0px 0.0px 0.0px\; text-align: center\; font: 12.0px Helvetica">\n	<span style="letter-spacing: 0.0px">BENEFITTING THE</span><span style="font: 14.0px Helvetica\; letter-spacing: 0.0px"> </span><span style="font: 14.0px Lucida Grande\; letter-spacing: 0.0px color: #0044fe">&ldquo\;BACK PACK BUDDIES&rdquo\;</span><span style="font: 14.0px Helvetica\; letter-spacing: 0.0px"> </span><span style="letter-spacing: 0.0px">FOOD PROGRAM</span></p>\n<p style="margin: 0.0px 0.0px 0.0px 0.0px\; text-align: center\; font: 12.0px Helvetica">\n	<span style="letter-spacing: 0.0px">SUNDAY OCTOBER 9\, 2011</span></p>\n<p style="margin: 0.0px 0.0px 0.0px 0.0px\; text-align: center\; font: 12.0px Helvetica">\n	<span style="letter-spacing: 0.0px">NOON - UNTIL COMPLETE</span></p>\n<p style="margin: 0.0px 0.0px 0.0px 0.0px\; font: 12.0px Helvetica\; min-height: 14.0px">\n	&nbsp\;</p>\n<p style="margin: 0.0px 0.0px 0.0px 0.0px\; font: 12.0px Helvetica">\n	<span style="letter-spacing: 0.0px"><b>WHO:</b></span></p>\n<p style="margin: 0.0px 0.0px 0.0px 0.0px\; font: 12.0px Helvetica">\n	<span style="letter-spacing: 0.0px">Sean Dickson\, owner/operator of:&nbsp\;</span></p>\n<p style="margin: 0.0px 0.0px 0.0px 0.0px\; font: 12.0px Batik Regular\; color: #a40800">\n	<span style="letter-spacing: 0.0px">Combat Fitness Training Facility</span></p>\n<p style="margin: 0.0px 0.0px 0.0px 0.0px\; font: 12.0px Helvetica">\n	<span style="letter-spacing: 0.0px">2048 ValleyDale Terrace</span></p>\n<p style="margin: 0.0px 0.0px 0.0px 0.0px\; font: 12.0px Helvetica">\n	<span style="letter-spacing: 0.0px">Birmingham\, AL 35244</span></p>\n<p style="margin: 0.0px 0.0px 0.0px 0.0px\; font: 12.0px Helvetica">\n	<span style="letter-spacing: 0.0px">205-994-0721</span></p>\n<p style="margin: 0.0px 0.0px 0.0px 0.0px\; font: 12.0px Helvetica\; color: #000099">\n	<span style="text-decoration: underline \; letter-spacing: 0.0px"><a href="http://www.CombatFitnessTrainingFacility.com">www.CombatFitnessTrainingFacility.com</a></span></p>\n<p style="margin: 0.0px 0.0px 0.0px 0.0px\; font: 12.0px Helvetica\; min-height: 14.0px">\n	&nbsp\;</p>\n<p style="margin: 0.0px 0.0px 0.0px 0.0px\; font: 12.0px Helvetica">\n	<span style="letter-spacing: 0.0px"><b>WHAT:</b></span></p>\n<p style="margin: 0.0px 0.0px 0.0px 0.0px\; font: 12.0px Helvetica">\n	<span style="letter-spacing: 0.0px">Sean will conduct and endurance workout consisting of\;</span></p>\n<p style="margin: 0.0px 0.0px 0.0px 0.0px\; font: 12.0px Helvetica">\n	<span style="letter-spacing: 0.0px">40 Rounds:</span></p>\n<ul>\n	<li style="margin: 0.0px 0.0px 0.0px 0.0px\; font: 12.0px Helvetica">\n		<span style="letter-spacing: 0.0px">400 Meter Run</span></li>\n	<li style="margin: 0.0px 0.0px 0.0px 0.0px\; font: 12.0px Helvetica">\n		<span style="letter-spacing: 0.0px">Push Up X25 Repetitions</span></li>\n	<li style="margin: 0.0px 0.0px 0.0px 0.0px\; font: 12.0px Helvetica">\n		<span style="letter-spacing: 0.0px">Body Squat X25 Repetitions</span></li>\n	<li style="margin: 0.0px 0.0px 0.0px 0.0px\; font: 12.0px Helvetica">\n		<span style="letter-spacing: 0.0px">Sit Up X25 Repetitions</span></li>\n	<li style="margin: 0.0px 0.0px 0.0px 0.0px\; font: 12.0px Helvetica">\n		<span style="letter-spacing: 0.0px">Burpee X25 Repetitions</span></li>\n</ul>\n<p style="margin: 0.0px 0.0px 0.0px 0.0px\; font: 12.0px Helvetica">\n	<span style="letter-spacing: 0.0px">*Totaling:&nbsp\;</span></p>\n<p style="margin: 0.0px 0.0px 0.0px 0.0px\; font: 12.0px Helvetica">\n	<span style="letter-spacing: 0.0px">10 Miles of running and 1\,000 Repetitions of each exercise </span><span style="text-decoration: underline \; letter-spacing: 0.0px">AS FAST AS HE CAN</span></p>\n<p style="margin: 0.0px 0.0px 0.0px 0.0px\; font: 12.0px Helvetica">\n	<span style="letter-spacing: 0.0px">Estimated Time= 6 Hours</span></p>\n<p style="margin: 0.0px 0.0px 0.0px 0.0px\; font: 12.0px Helvetica\; min-height: 14.0px">\n	&nbsp\;</p>\n<p style="margin: 0.0px 0.0px 0.0px 0.0px\; font: 12.0px Helvetica">\n	<span style="letter-spacing: 0.0px"><b>WHEN:</b></span></p>\n<p style="margin: 0.0px 0.0px 0.0px 0.0px\; font: 12.0px Helvetica">\n	<span style="letter-spacing: 0.0px">Sunday. October 9\, 2011. Noon-Until Complete (estimate of 6 hours)</span></p>\n<p style="margin: 0.0px 0.0px 0.0px 0.0px\; font: 12.0px Helvetica\; min-height: 14.0px">\n	&nbsp\;</p>\n<p style="margin: 0.0px 0.0px 0.0px 0.0px\; font: 12.0px Helvetica">\n	<span style="letter-spacing: 0.0px"><b>WHERE:</b></span></p>\n<p style="margin: 0.0px 0.0px 0.0px 0.0px\; font: 12.0px Helvetica">\n	<span style="letter-spacing: 0.0px">Veteran&rsquo\;s Park at 4800 ValleyDale Road. Hoover\, AL 35244 (in front of Spain Park High School)</span></p>\n<p style="margin: 0.0px 0.0px 0.0px 0.0px\; font: 12.0px Helvetica\; min-height: 14.0px">\n	&nbsp\;</p>\n<p style="margin: 0.0px 0.0px 0.0px 0.0px\; font: 12.0px Helvetica">\n	<span style="letter-spacing: 0.0px"><b>WHY</b>:</span></p>\n<p style="margin: 0.0px 0.0px 0.0px 0.0px\; font: 12.0px Helvetica">\n	<span style="letter-spacing: 0.0px">In order to raise awareness for the &ldquo\;Back Pack Buddies&rdquo\; food program that is run by the Vineyard Family Services based out of the Vineyard Church in Hoover\,AL. <i>This Endurance Charity Event will allow us to provide a venue for the local community to drop off the necessary food items for the program and be educated on the need for continued support of this service.</i></span></p>\n<p style="margin: 0.0px 0.0px 0.0px 0.0px\; font: 12.0px Helvetica\; min-height: 14.0px">\n	&nbsp\;</p>\n<p style="margin: 0.0px 0.0px 0.0px 0.0px\; font: 12.0px Helvetica">\n	<span style="letter-spacing: 0.0px"><b>GOAL</b>: One food item for every repetition = 4000 food items acquired. Accepted Food Items are :</span></p>\n<br />\n<p style="margin: 0.0px 0.0px 0.0px 0.0px\; font: 12.0px Helvetica">\n	<span style="letter-spacing: 0.0px">Ravioli or other pop-top type meal&nbsp\;</span></p>\n<p style="margin: 0.0px 0.0px 0.0px 0.0px\; font: 12.0px Helvetica">\n	<span style="letter-spacing: 0.0px">Granola Bars</span></p>\n<p style="margin: 0.0px 0.0px 0.0px 0.0px\; font: 12.0px Helvetica">\n	<span style="letter-spacing: 0.0px">Oatmeal or Grits</span></p>\n<p style="margin: 0.0px 0.0px 0.0px 0.0px\; font: 12.0px Helvetica">\n	<span style="letter-spacing: 0.0px">Applesauce or Fruit Cups</span></p>\n<p style="margin: 0.0px 0.0px 0.0px 0.0px\; font: 12.0px Helvetica">\n	<span style="letter-spacing: 0.0px">100% Juice Boxes</span></p>\n<p style="margin: 0.0px 0.0px 0.0px 0.0px\; font: 12.0px Helvetica">\n	<span style="letter-spacing: 0.0px">Pudding Cups</span></p>\n<p style="margin: 0.0px 0.0px 0.0px 0.0px\; font: 12.0px Helvetica">\n	<span style="letter-spacing: 0.0px">Cheese or Peanut Butter Crackers</span></p>\n
LOCATION:Veteran's Park
UID:e.145.3526
SEQUENCE:3
DTSTAMP:20260425T183433Z
URL:https://business.shelbychamber.org/events/details/charity-food-drive-by-combat-fitness-for-shelby-co-vfs-backpack-buddies-10-09-2011-3526
END:VEVENT

END:VCALENDAR
