BEGIN:VCALENDAR
VERSION:2.0
PRODID:-//ChamberMaster//Event Calendar 2.0//EN
METHOD:PUBLISH
X-PUBLISHED-TTL:P3D
REFRESH-INTERVAL:P3D
CALSCALE:GREGORIAN
BEGIN:VEVENT
DTSTART:20130405T170000Z
DTEND:20130405T210000Z
X-MICROSOFT-CDO-ALLDAYEVENT:FALSE
SUMMARY:Chelsea Baseball Club Golf Tournament
DESCRIPTION:Come help support the Chelsea Baseball Club\n\n\n\nLunch provided at 12:00 P.M.\n\nShotgun start at 1:00 P.M.
X-ALT-DESC;FMTTYPE=text/html:Come help support the Chelsea Baseball Club<br />\n<br />\nLunch provided at 12:00 P.M.<br />\nShotgun start at 1:00 P.M.
LOCATION:Coosa Pines Golf Club 2 Country Club Dr Hwy 235 Coosa Pines\, AL 35044
UID:e.145.4547
SEQUENCE:3
DTSTAMP:20260424T135124Z
URL:https://business.shelbychamber.org/events/details/chelsea-baseball-club-golf-tournament-04-05-2013-4547
END:VEVENT

END:VCALENDAR
