BEGIN:VCALENDAR
VERSION:2.0
PRODID:-//ChamberMaster//Event Calendar 2.0//EN
METHOD:PUBLISH
X-PUBLISHED-TTL:P3D
REFRESH-INTERVAL:P3D
CALSCALE:GREGORIAN
BEGIN:VEVENT
DTSTART:20111001T130000Z
DTEND:20111001T190000Z
X-MICROSOFT-CDO-ALLDAYEVENT:FALSE
SUMMARY:Chelsea Day
DESCRIPTION:All are invited to attend Chelsea Day arts & crafts fair Saturday\, October 1st located at the City of Chelsea City Hall  from 8 am until 2 pm.\n\n\n\nDuring the day you will be able to enjoy local artisans\, arts & crafts vendors\, food\, live entertainment and games. \n\n\n\nThe event is hosted by the Chelsea High School Band and supported by the City of Chelsea and will be a celebration of the fine arts. Hope to see you at Chelsea Day Saturday\, October 1st!\n\n\n\nClick here for a detailed PDF/printable invitation and all the forms needed to be a vendor at the event!\n\n\n\nIf you are interested in participating as a vendor or need more information\, you may contact us at chelseahighband@yahoo.com.
X-ALT-DESC;FMTTYPE=text/html:All are invited to attend <strong>Chelsea Day </strong>arts &amp\; crafts fair Saturday\, October 1st located at the City of Chelsea City Hall &nbsp\;from 8 am&nbsp\;until 2 pm.<br />\n<br />\nDuring the day you will be able to enjoy local artisans\, arts &amp\; crafts vendors\, food\, live entertainment and games.&nbsp\;<br />\n<br />\nThe event is hosted by the Chelsea High School Band and supported by the City of Chelsea and will be a celebration of the fine arts. Hope to see you at <strong>Chelsea Day Saturday\,&nbsp\;October 1st</strong>!<br />\n<br />\n<strong><a href="http://cloud.chambermaster.com/userfiles/UserFiles/chambers/145/File/Community%20Events/ChelseaDayInviteandForms.pdf">Click here for a detailed PDF/printable invitation and all the forms needed to be a vendor at the event!</a></strong><br />\n<br />\nIf you are interested in participating as a vendor or need more information\, you may contact us at <a href="mailto:chelseahighband@yahoo.com">chelseahighband@yahoo.com.</a> 
LOCATION:Chelsea City Hall
UID:e.145.3492
SEQUENCE:3
DTSTAMP:20260425T183015Z
URL:https://business.shelbychamber.org/events/details/chelsea-day-10-01-2011-3492
END:VEVENT

END:VCALENDAR
