BEGIN:VCALENDAR
VERSION:2.0
PRODID:-//ChamberMaster//Event Calendar 2.0//EN
METHOD:PUBLISH
X-PUBLISHED-TTL:P3D
REFRESH-INTERVAL:P3D
CALSCALE:GREGORIAN
BEGIN:VEVENT
DTSTART:20131005T140000Z
DTEND:20131005T220000Z
X-MICROSOFT-CDO-ALLDAYEVENT:FALSE
SUMMARY:Chelsea Day 2013 - Celebration of the Arts
DESCRIPTION:Chelsea Day - 'Celebration of the Arts'\n\n \n\nThe Chelsea High School Band Boosters would like to invite you and your business to participate in Chelsea Day Saturday\, October 5th from 9am   3pm located at the City of Chelsea City Hall with setup starting at 5am. The event is currently being planned as a 'Celebration of the Arts'.  We will be hosting various vendors and artisans from throughout the state while enjoying good food\, family fun and local entertainment from our schools and churches.  We truly hope that you will make plans on participating and attending this event\; it will be a great time for all involved.\n\n \n\nIf you are interested in becoming a part of this day\, please complete a vendor form (click here for printable form) and mail with payment by September 14th to:\n\n \n\nChelsea High School Band Boosters\n\n10510 Highway 11\n\nChelsea\, AL 35043\n\n \n\nAlso if you have any questions\, please don't hesitate to call or email Scarlet Walker at (205) 529-3750 or chelseahighband@yahoo.com.
X-ALT-DESC;FMTTYPE=text/html:<span style="font-size:14px\;"><span style="font-family: arial\;"><strong>Chelsea Day - <span style="color: black\;">&lsquo\;Celebration of the Arts&rsquo\;</span></strong><br />\n&nbsp\;<br />\nThe Chelsea High School Band Boosters would like to invite you and your business to participate in Chelsea Day Saturday\, October 5th from 9am &ndash\; 3pm located at the City of Chelsea City Hall with setup starting at 5am. The event is currently being planned as a &lsquo\;Celebration of the Arts&rsquo\;.&nbsp\; We will be hosting various vendors and artisans from throughout the state while enjoying good food\, family fun and local entertainment from our schools and churches.&nbsp\; We truly hope that you will make plans on participating and attending this event\; it will be a great time for all involved.<br />\n&nbsp\;<br />\nIf you are interested in becoming a part of this day\, please complete a vendor form (<a href="http://cloud.chambermaster.com/userfiles/UserFiles/chambers/145/File/Community%20Events/ChelseaDayVendorForm.pdf">click here for printable form</a>) and mail with payment by September 14<sup>th</sup> to:<br />\n&nbsp\;<br />\nChelsea High School Band Boosters<br />\n10510 Highway 11<br />\nChelsea\, AL 35043<br />\n&nbsp\;<br />\nAlso if you have any questions\, please don&rsquo\;t hesitate to call or email Scarlet Walker at (205) 529-3750 or <a href="mailto:chelseahighband@yahoo.com">chelseahighband@yahoo.com</a>.&nbsp\; </span></span><br />\n
LOCATION:Chelsea City Hall 11611 Chelsea Rd Chelsea\, AL 35043
UID:e.145.4585
SEQUENCE:3
DTSTAMP:20260424T033738Z
URL:https://business.shelbychamber.org/events/details/chelsea-day-2013-celebration-of-the-arts-10-05-2013-4585
END:VEVENT

END:VCALENDAR
