BEGIN:VCALENDAR
VERSION:2.0
PRODID:-//ChamberMaster//Event Calendar 2.0//EN
METHOD:PUBLISH
X-PUBLISHED-TTL:P3D
REFRESH-INTERVAL:P3D
CALSCALE:GREGORIAN
BEGIN:VEVENT
DTSTART:20121006T140000Z
DTEND:20121006T200000Z
X-MICROSOFT-CDO-ALLDAYEVENT:FALSE
SUMMARY:Chelsea Day - Celebration of the Arts
DESCRIPTION:Chelsea Day is set for October 6th from 9am to 3pm on the lawn of Chelsea City Hall.  This event is planned as a "Celebration of the Arts".  Vendors and artisans from throughout the state will be on hand showcasing their goods and services.  The Chelsea High School Hornet Pride Band will be in concert during the day.  The entertainment line-up will also include artists from local schools and churches.    Mark your calendar for this free\, fun-filled\, family event for all ages.  Vendor space is still available\; please contact Lori Overlaur at chelseahighband@yahoo.com for more information.
X-ALT-DESC;FMTTYPE=text/html:<p class="MsoNormal" style="margin: 0in 0in 10pt">\n	<font color="#000000"><font face="Calibri"><font size="3">Chelsea Day is set for October 6</font><sup><font size="2">th</font></sup><font size="3"> from 9am to 3pm on the lawn of Chelsea City Hall.<span style="mso-spacerun: yes">&nbsp\; </span>This event is planned as a &ldquo\;Celebration of the Arts&rdquo\;.<span style="mso-spacerun: yes">&nbsp\; </span>Vendors and artisans from throughout the state will be on hand showcasing their goods and services.<span style="mso-spacerun: yes">&nbsp\; </span>The Chelsea High School Hornet Pride Band will be in concert during the day.<span style="mso-spacerun: yes">&nbsp\; </span>The entertainment line-up will also include artists from local schools and churches.<span style="mso-spacerun: yes">&nbsp\;&nbsp\;&nbsp\; </span>Mark your calendar for this free\, fun-filled\, family event for all ages.<span style="mso-spacerun: yes">&nbsp\; </span>Vendor space is still available\; please contact Lori Overlaur at </font></font></font><a href="mailto:chelseahighband@yahoo.com"><font face="Calibri" size="3">chelseahighband@yahoo.com</font></a><font size="3"><font color="#000000"><font face="Calibri"> for more information.<o:p></o:p></font></font></font></p>\n
LOCATION:Chelsea City Hall
UID:e.145.4356
SEQUENCE:3
DTSTAMP:20260424T233616Z
URL:https://business.shelbychamber.org/events/details/chelsea-day-celebration-of-the-arts-10-06-2012-4356
END:VEVENT

END:VCALENDAR
