BEGIN:VCALENDAR
VERSION:2.0
PRODID:-//ChamberMaster//Event Calendar 2.0//EN
METHOD:PUBLISH
X-PUBLISHED-TTL:P3D
REFRESH-INTERVAL:P3D
CALSCALE:GREGORIAN
BEGIN:VEVENT
DTSTART:20120730T180000Z
DTEND:20120802T210000Z
X-MICROSOFT-CDO-ALLDAYEVENT:FALSE
SUMMARY:Chelsea Girls Basketball Camp
DESCRIPTION:Chelsea Girls Basketball Camp\nJuly 30th-Aug 2nd\n1:00-4:00 at the Chelsea High School Gymnasium\nOpen to grades K-8th\nAny girl from Shelby\, Jefferson\, or other counties is encouraged to attend also. \nCost-$100\n\nContact Michele Edwards for more information at \nM2edwards@shelbyed.k12.al.us
X-ALT-DESC;FMTTYPE=text/html:<pre>\nChelsea Girls Basketball Camp\nJuly 30th-Aug 2nd\n1:00-4:00 at the Chelsea High School Gymnasium\nOpen to grades K-8th\nAny girl from Shelby\, Jefferson\, or other counties is encouraged to attend also. \nCost-$100\n\nContact Michele Edwards for more information at \n<a href="mailto:M2edwards@shelbyed.k12.al.us">M2edwards@shelbyed.k12.al.us</a></pre>\n
LOCATION:Chelsea High School Gymnasium
UID:e.145.4272
SEQUENCE:3
DTSTAMP:20260425T025025Z
URL:https://business.shelbychamber.org/events/details/chelsea-girls-basketball-camp-07-30-2012-4272
END:VEVENT

END:VCALENDAR
