BEGIN:VCALENDAR
VERSION:2.0
PRODID:-//ChamberMaster//Event Calendar 2.0//EN
METHOD:PUBLISH
X-PUBLISHED-TTL:P3D
REFRESH-INTERVAL:P3D
CALSCALE:GREGORIAN
BEGIN:VEVENT
DTSTART:20160907T133000Z
DTEND:20160907T143000Z
X-MICROSOFT-CDO-ALLDAYEVENT:FALSE
SUMMARY:Chelsea High School's Education Connection
DESCRIPTION:Chelsea High School will be holding their FIRST Education Connection. Education Connections are a time for Businesses and Education to connect. It is going to be a great networking event! Light breakfast and coffee will be provided.
X-ALT-DESC;FMTTYPE=text/html:Chelsea High School will be holding their FIRST Education Connection. Education Connections are a time for Businesses and Education to connect. It is going to be a great networking event! Light breakfast and coffee will be provided.
LOCATION:Chelsea High School
UID:e.145.9727
SEQUENCE:3
DTSTAMP:20260421T182624Z
URL:https://business.shelbychamber.org/events/details/chelsea-high-school-s-education-connection-9727
END:VEVENT

END:VCALENDAR
