BEGIN:VCALENDAR
VERSION:2.0
PRODID:-//ChamberMaster//Event Calendar 2.0//EN
METHOD:PUBLISH
X-PUBLISHED-TTL:P3D
REFRESH-INTERVAL:P3D
CALSCALE:GREGORIAN
BEGIN:VEVENT
DTSTART;VALUE=DATE:20130510
DTEND;VALUE=DATE:20130511
TRANSP:TRANSPARENT
X-MICROSOFT-CDO-ALLDAYEVENT:TRUE
SUMMARY:Chick-Fil-A Leadercast
DESCRIPTION:Chick-fil-A Leadercast 2013 - The Church at Chelsea-Westover and SERVPRO of Birmingham\n\n\n\nChick-fil-A  Leadercast  is a one-day leadership event broadcast LIVE from Atlanta\, GA to hundreds of locations around the world. Join 140\,000 leaders from wherever you are on May 10\, 2013 as we learn to Simply Lead.
X-ALT-DESC;FMTTYPE=text/html:Chick-fil-A Leadercast 2013 - The Church at Chelsea-Westover and SERVPRO of Birmingham<br />\n<br />\nChick-fil-A&reg\; Leadercast&reg\; is a one-day leadership event broadcast LIVE from Atlanta\, GA to hundreds of locations around the world. Join 140\,000 leaders from wherever you are on May 10\, 2013 as we learn to Simply Lead.<br />\n
LOCATION:Servpro of Birmingham Regional Training Facility The Church at Chelsea-Westover and SERVPRO of Birmingham 11063 Hwy 280 Westover\, AL 35147
UID:e.145.4611
SEQUENCE:3
DTSTAMP:20260424T120101Z
URL:https://business.shelbychamber.org/events/details/chick-fil-a-leadercast-05-10-2013-4611
END:VEVENT

END:VCALENDAR
