BEGIN:VCALENDAR
VERSION:2.0
PRODID:-//ChamberMaster//Event Calendar 2.0//EN
METHOD:PUBLISH
X-PUBLISHED-TTL:P3D
REFRESH-INTERVAL:P3D
CALSCALE:GREGORIAN
BEGIN:VEVENT
DTSTART:20131012T140000Z
DTEND:20131012T200000Z
X-MICROSOFT-CDO-ALLDAYEVENT:FALSE
SUMMARY:Christmas Angel Tree Registration
DESCRIPTION:The Salvation Army's Annual Christmas Angel Tree (Christmas Gift Assistance) Registration\n\nServing families in Alabaster\, Pelham\, Helena\, Inverness\, Maylene\, Saginaw & Siluria\n\nApplicants must bring:\n\n-Head of Household ID\n\n-Social Security Cards for all members of the household\n\n-Birth Certificates for children ages 12 & under\n\n-Proof of all Income & Expenses\n\n-Children's clothes sizes\, gift needs & wants\n\nTranslators are available.\n\n\n\nThis will also be a hiring day for individuals interested in working for The Salvation Army through the Christmas Kettle Season.
X-ALT-DESC;FMTTYPE=text/html:The Salvation Army&#39\;s Annual Christmas Angel Tree (Christmas Gift Assistance) Registration<br />\nServing families in Alabaster\, Pelham\, Helena\, Inverness\, Maylene\, Saginaw &amp\; Siluria<br />\nApplicants must bring:<br />\n-Head of Household ID<br />\n-Social Security Cards for all members of the household<br />\n-Birth Certificates for children ages 12 &amp\; under<br />\n-Proof of all Income &amp\; Expenses<br />\n-Children&#39\;s clothes sizes\, gift needs &amp\; wants<br />\n<em>Translators are available</em>.<br />\n<br />\n<strong>This will also be a&nbsp\;hiring day&nbsp\;for individuals interested in working for The Salvation Army through the Christmas Kettle Season.</strong><br />\n<br />\n
LOCATION:108 Plaza Circle Alabaster\, Alabama
UID:e.145.4729
SEQUENCE:3
DTSTAMP:20260424T051316Z
URL:https://business.shelbychamber.org/events/details/christmas-angel-tree-registration-10-12-2013-4729
END:VEVENT

END:VCALENDAR
