BEGIN:VCALENDAR
VERSION:2.0
PRODID:-//ChamberMaster//Event Calendar 2.0//EN
METHOD:PUBLISH
X-PUBLISHED-TTL:P3D
REFRESH-INTERVAL:P3D
CALSCALE:GREGORIAN
BEGIN:VEVENT
DTSTART:20130720T150000Z
DTEND:20130720T160000Z
X-MICROSOFT-CDO-ALLDAYEVENT:FALSE
SUMMARY:Christmas in July
DESCRIPTION:Who says we have to wait until December for Christmas. Let's celebrate it in July. Come out to the Campground Pavilion where we will make some ornaments and other Christmas crafts.
X-ALT-DESC;FMTTYPE=text/html:Who says we have to wait until December for Christmas. Let&rsquo\;s celebrate it in July. Come out to the Campground Pavilion where we will make some ornaments and other Christmas crafts.
LOCATION:Oak Mountain State Park - Campground Pavilion
UID:e.145.4526
SEQUENCE:3
DTSTAMP:20260424T085021Z
URL:https://business.shelbychamber.org/events/details/christmas-in-july-07-20-2013-4526
END:VEVENT

END:VCALENDAR
