BEGIN:VCALENDAR
VERSION:2.0
PRODID:-//ChamberMaster//Event Calendar 2.0//EN
METHOD:PUBLISH
X-PUBLISHED-TTL:P3D
REFRESH-INTERVAL:P3D
CALSCALE:GREGORIAN
BEGIN:VEVENT
DTSTART:20131220T160000Z
DTEND:20131220T230000Z
X-MICROSOFT-CDO-ALLDAYEVENT:FALSE
SUMMARY:Christmas Movie Marathon
DESCRIPTION:Drop by between 10-5 to see a great Christmas movie and have some yummy snacks. No registration required.
X-ALT-DESC;FMTTYPE=text/html:Drop by between 10-5 to see a great Christmas movie and have some yummy snacks. No registration required.
LOCATION:North Shelby Library
UID:e.145.4929
SEQUENCE:3
DTSTAMP:20260424T003010Z
URL:https://business.shelbychamber.org/events/details/christmas-movie-marathon-12-20-2013-4929
END:VEVENT

END:VCALENDAR
