BEGIN:VCALENDAR
VERSION:2.0
PRODID:-//ChamberMaster//Event Calendar 2.0//EN
METHOD:PUBLISH
X-PUBLISHED-TTL:P3D
REFRESH-INTERVAL:P3D
CALSCALE:GREGORIAN
BEGIN:VEVENT
DTSTART:20120319T233000Z
DTEND:20120320T003000Z
X-MICROSOFT-CDO-ALLDAYEVENT:FALSE
SUMMARY:Circle of Champions ToastMasters
DESCRIPTION:If you are interested in developing or improving your public speaking skills\, then please visit the Circle of Champions Toastmasters club to see if it is for you.  The environment is encouraging and friendly.  The program is self-paced.
X-ALT-DESC;FMTTYPE=text/html:If you are interested in developing or improving your public speaking skills\, then please visit the Circle of Champions Toastmasters club to see if it is for you.&nbsp\; The environment is encouraging and friendly.&nbsp\; The program is self-paced.&nbsp\; 
LOCATION:Abundant Life Church\, 1625 Kent Dairy Road\, Alabaster AL 35007 (near Thompson Middle School)
UID:e.145.3931
SEQUENCE:3
DTSTAMP:20260425T102515Z
URL:https://business.shelbychamber.org/events/details/circle-of-champions-toastmasters-03-19-2012-3931
END:VEVENT

END:VCALENDAR
