BEGIN:VCALENDAR
VERSION:2.0
PRODID:-//ChamberMaster//Event Calendar 2.0//EN
METHOD:PUBLISH
X-PUBLISHED-TTL:P3D
REFRESH-INTERVAL:P3D
CALSCALE:GREGORIAN
BEGIN:VEVENT
DTSTART:20120416T233000Z
DTEND:20120417T003000Z
X-MICROSOFT-CDO-ALLDAYEVENT:FALSE
SUMMARY:Circle of Champions ToastMasters
DESCRIPTION:If you are interested in developing or improving your public speaking skills\, then please visit the Circle of Champions Toastmasters club to see if it is for you. The environment is encouraging and friendly. The program is self-paced.
X-ALT-DESC;FMTTYPE=text/html:If you are interested in developing or improving your public speaking skills\, then please visit the Circle of Champions Toastmasters club to see if it is for you. The environment is encouraging and friendly. The program is self-paced. 
LOCATION:Abundant Life Church\, 1625 Kent Dairy Rd.\, Alabaster\, AL 35007
UID:e.145.3932
SEQUENCE:3
DTSTAMP:20260425T101931Z
URL:https://business.shelbychamber.org/events/details/circle-of-champions-toastmasters-04-16-2012-3932
END:VEVENT

END:VCALENDAR
