BEGIN:VCALENDAR
VERSION:2.0
PRODID:-//ChamberMaster//Event Calendar 2.0//EN
METHOD:PUBLISH
X-PUBLISHED-TTL:P3D
REFRESH-INTERVAL:P3D
CALSCALE:GREGORIAN
BEGIN:VEVENT
DTSTART:20120221T003000Z
DTEND:20120221T013000Z
X-MICROSOFT-CDO-ALLDAYEVENT:FALSE
SUMMARY:Circle of Champions ToastMasters Invitation
DESCRIPTION:The Circle of Champions Toastmasters club is a place where you can develop or polish your public speaking skills.  We are an encouraging and fun club.  Your development will be self-paced.  We encourage you to visit to see if this club is for you.
X-ALT-DESC;FMTTYPE=text/html:The Circle of Champions Toastmasters club is a place where you can develop or polish your public speaking skills.&nbsp\; We are an encouraging and fun club.&nbsp\; Your development will be self-paced.&nbsp\; We encourage you to visit to see if this club is for you.
LOCATION:1625 Kent Dairy Road\, Alabaster AL (near Thompson Middle School)
UID:e.145.3913
SEQUENCE:3
DTSTAMP:20260425T134217Z
URL:https://business.shelbychamber.org/events/details/circle-of-champions-toastmasters-invitation-02-20-2012-3913
END:VEVENT

END:VCALENDAR
