BEGIN:VCALENDAR
VERSION:2.0
PRODID:-//ChamberMaster//Event Calendar 2.0//EN
METHOD:PUBLISH
X-PUBLISHED-TTL:P3D
REFRESH-INTERVAL:P3D
CALSCALE:GREGORIAN
BEGIN:VEVENT
DTSTART:20110423T130000Z
DTEND:20110423T213000Z
X-MICROSOFT-CDO-ALLDAYEVENT:FALSE
SUMMARY:Civilian Marksmanship Program Garand Clinic at Brock's Gap Training Center\, Inc.
DESCRIPTION:CMP High Power Rifle Shooting Clinic\n\nBoth Classroom and Live Fire with the M1 Garand\n\nLearn 3-Position Shooting Required in Competition\n\nRifles and Ammo Included in Clinic Fee\n\n\n\nThis event is open to both members and non-members of Brock's Gap Training Center. Participation in the event qualifies the shooter to purchase an M1 Garand from the Civilian Marksmanship Program store located in Anniston Al.\n\n\n\nClassroom and live fire open to the first 38 participants.\n\nPre-registration is recommended.
X-ALT-DESC;FMTTYPE=text/html:CMP High Power Rifle Shooting Clinic<br />\nBoth Classroom and Live Fire with the M1 Garand<br />\nLearn 3-Position Shooting Required in Competition<br />\nRifles and Ammo Included in Clinic Fee<br />\n<br />\nThis event is open to both members and non-members of Brock&#39\;s Gap Training Center. Participation in the event qualifies the shooter to purchase an M1 Garand from the Civilian Marksmanship Program store located in Anniston Al.<br />\n<br />\nClassroom and live fire open to the first 38 participants.<br />\nPre-registration is recommended.<br />\n<br />\n
LOCATION:Range D Brock's Gap Training Center\, dba Steel City Sports Shooting Assoc 3721 South Shades Crest Road\, Birmingham\, AL 35244
UID:e.145.3273
SEQUENCE:3
DTSTAMP:20260426T035414Z
URL:https://business.shelbychamber.org/events/details/civilian-marksmanship-program-garand-clinic-at-brock-s-gap-training-center-inc-04-23-2011-3273
END:VEVENT

END:VCALENDAR
