BEGIN:VCALENDAR
VERSION:2.0
PRODID:-//ChamberMaster//Event Calendar 2.0//EN
METHOD:PUBLISH
X-PUBLISHED-TTL:P3D
REFRESH-INTERVAL:P3D
CALSCALE:GREGORIAN
BEGIN:VEVENT
DTSTART:20110428T230000Z
DTEND:20110429T013000Z
X-MICROSOFT-CDO-ALLDAYEVENT:FALSE
SUMMARY:CLICK! BASIC DIGITAL PHOTOGRAPHY for adults
DESCRIPTION:CLICK! Basic Digital PHOTOGRAPHY for adults\n\n\n\n* Use your camera to express yourself and record special moments in your life!\n\n* Learn about those confusing buttons - Camera functions and more!\n\n* Bring your digital camera!\n\n* Personal attention is given!\n\n\n\n\n\nApril Class: Apr 7 - 28\, 2011\n\n\n\nThursdays\, 6:00-8:30PM\n\n\n\n4 weeks Ages 15 - Adult
X-ALT-DESC;FMTTYPE=text/html:CLICK! Basic Digital PHOTOGRAPHY for adults<br />\n<br />\n* Use your camera to express yourself and record special moments in your life!<br />\n* Learn about those confusing buttons - Camera functions and more!<br />\n* Bring your digital camera!<br />\n* Personal attention is given!<br />\n<br />\n<br />\nApril Class: Apr 7 - 28\, 2011<br />\n<br />\nThursdays\, 6:00-8:30PM<br />\n<br />\n4 weeks Ages 15 - Adult
LOCATION:Shelby County Arts Council Studio 104 Mildred St Columbiana AL 35051
UID:e.145.3136
SEQUENCE:3
DTSTAMP:20260426T033814Z
URL:https://business.shelbychamber.org/events/details/click-basic-digital-photography-for-adults-04-28-2011-3136
END:VEVENT

END:VCALENDAR
