BEGIN:VCALENDAR
VERSION:2.0
PRODID:-//ChamberMaster//Event Calendar 2.0//EN
METHOD:PUBLISH
X-PUBLISHED-TTL:P3D
REFRESH-INTERVAL:P3D
CALSCALE:GREGORIAN
BEGIN:VEVENT
DTSTART:20110407T210000Z
DTEND:20110407T223000Z
X-MICROSOFT-CDO-ALLDAYEVENT:FALSE
SUMMARY:CLICK! BASIC DIGITAL PHOTOGRAPHY for youth!
DESCRIPTION:CLICK! BASIC DIGITAL PHOTOGRAPHY for youth!\n\n\n\n* Use your camera to express yourself and record special moments in your life!\n\n* Learn about those confusing buttons - Camera functions\, correct exposure\, megapixel\, white balance\n\n* Bring your digital camera\n\n* Personal attention is given!\n\n\n\nApril Class: Apr 7 - 28\, 2011\n\n\n\nThursdays\, 4:00 -5:30pm\n\n\n\n4 weeks Ages 14-18
X-ALT-DESC;FMTTYPE=text/html:CLICK! BASIC DIGITAL PHOTOGRAPHY for youth!<br />\n<br />\n* Use your camera to express yourself and record special moments in your life!<br />\n* Learn about those confusing buttons - Camera functions\, correct exposure\, megapixel\, white balance<br />\n* Bring your digital camera<br />\n* Personal attention is given!<br />\n<br />\nApril Class: Apr 7 - 28\, 2011<br />\n<br />\nThursdays\, 4:00 -5:30pm<br />\n<br />\n4 weeks Ages 14-18 
LOCATION:Shelby County Arts Council Studio 104 Mildred ST Columbiana AL 35051
UID:e.145.2892
SEQUENCE:3
DTSTAMP:20260426T033810Z
URL:https://business.shelbychamber.org/events/details/click-basic-digital-photography-for-youth-04-07-2011-2892
END:VEVENT

END:VCALENDAR
