BEGIN:VCALENDAR
VERSION:2.0
PRODID:-//ChamberMaster//Event Calendar 2.0//EN
METHOD:PUBLISH
X-PUBLISHED-TTL:P3D
REFRESH-INTERVAL:P3D
CALSCALE:GREGORIAN
BEGIN:VEVENT
DTSTART;VALUE=DATE:20110602
DTEND;VALUE=DATE:20110701
TRANSP:TRANSPARENT
X-MICROSOFT-CDO-ALLDAYEVENT:TRUE
SUMMARY:Click! Basic Digital Photography for Youth!
DESCRIPTION:Use your camera to express yourself and record special moments in your life!\n\nLearn about those confusing buttons- Camers functions\, correct exposure\,megapixel\, white balance\n\nBring your digital camera\n\nPersonal attention is given!
X-ALT-DESC;FMTTYPE=text/html:Use your camera to express yourself and record special moments in your life!\n<br>Learn about those confusing buttons- Camers functions\, correct exposure\,megapixel\, white balance\n<br>Bring your digital camera\n<br>Personal attention is given!
LOCATION:Shelby County Arts Council- Columbiana
UID:e.145.3319
SEQUENCE:3
DTSTAMP:20260426T005447Z
URL:https://business.shelbychamber.org/events/details/click-basic-digital-photography-for-youth-06-02-2011-3319
END:VEVENT

END:VCALENDAR
