BEGIN:VCALENDAR
VERSION:2.0
PRODID:-//ChamberMaster//Event Calendar 2.0//EN
METHOD:PUBLISH
X-PUBLISHED-TTL:P3D
REFRESH-INTERVAL:P3D
CALSCALE:GREGORIAN
BEGIN:VEVENT
DTSTART;VALUE=DATE:20110602
DTEND;VALUE=DATE:20110701
TRANSP:TRANSPARENT
X-MICROSOFT-CDO-ALLDAYEVENT:TRUE
SUMMARY:ClICK! BASIC DIGITAL PHOTOGRAPHY ofr adults!
DESCRIPTION:Use Your camera to express yourself and record special moments in your life!\n\nLearn about those confusing buttons- Camera functions and more!\n\nBring your digital camera!\n\nPersonal attention is given
X-ALT-DESC;FMTTYPE=text/html:Use Your camera to express yourself and record special moments in your life!\n<br>Learn about those confusing buttons- Camera functions and more!\n<br>Bring your digital camera!\n<br>Personal attention is given
LOCATION:Shelby COubty Arts Council Studio- 104 Mildred Street\, Columbiana\, AL 35051
UID:e.145.3307
SEQUENCE:3
DTSTAMP:20260426T005454Z
URL:https://business.shelbychamber.org/events/details/click-basic-digital-photography-ofr-adults-06-02-2011-3307
END:VEVENT

END:VCALENDAR
