BEGIN:VCALENDAR
VERSION:2.0
PRODID:-//ChamberMaster//Event Calendar 2.0//EN
METHOD:PUBLISH
X-PUBLISHED-TTL:P3D
REFRESH-INTERVAL:P3D
CALSCALE:GREGORIAN
BEGIN:VEVENT
DTSTART;VALUE=DATE:20110505
DTEND;VALUE=DATE:20110527
TRANSP:TRANSPARENT
X-MICROSOFT-CDO-ALLDAYEVENT:TRUE
SUMMARY:Click! Basic Digital Pjotography for Adults
DESCRIPTION:Use your camera to express yourself and record special moments in your life!\n\nLearn about those confusing buttons- Camera functions and more!\n\nBring your digital camera!\n\nPersonal attention is given!
X-ALT-DESC;FMTTYPE=text/html:Use your camera to express yourself and record special moments in your life!\n<br>Learn about those confusing buttons- Camera functions and more!\n<br>Bring your digital camera!\n<br>Personal attention is given!
LOCATION:Shelby County Arts Council Studio
UID:e.145.3288
SEQUENCE:3
DTSTAMP:20260426T033709Z
URL:https://business.shelbychamber.org/events/details/click-basic-digital-pjotography-for-adults-05-05-2011-3288
END:VEVENT

END:VCALENDAR
