BEGIN:VCALENDAR
VERSION:2.0
PRODID:-//ChamberMaster//Event Calendar 2.0//EN
METHOD:PUBLISH
X-PUBLISHED-TTL:P3D
REFRESH-INTERVAL:P3D
CALSCALE:GREGORIAN
BEGIN:VEVENT
DTSTART:20120414T130000Z
DTEND:20120414T213000Z
X-MICROSOFT-CDO-ALLDAYEVENT:FALSE
SUMMARY:CMP GARAND HIGH POWER SHOOTING CLINIC @ Brock's Gap Training Center\, Inc.
DESCRIPTION:CIVILIAN MARKSMANSHIP PROGRAM GARAND HIGH POWER RIFLE CLINIC\n\nLearn 3 position shooting and have an opportunity to fire the  M1 Garand rifle.\n\nParticipation in event qualifies shooter to purchase an M1 Garand from the Civilian Marksmanship Program.\n\nClassroom & Live Fire open to the first 38 entrants.\n\nEvent requires each participant to provide their individual eye and hearing protection.\n\nOpen to members and non members of Brock's Gap Training Center.\n\nRegistration will be limited to the first 38 participants Saturday morning.
X-ALT-DESC;FMTTYPE=text/html:CIVILIAN MARKSMANSHIP PROGRAM GARAND HIGH POWER RIFLE&nbsp\;CLINIC<br />\nLearn 3 position shooting and have an opportunity to fire&nbsp\;the &nbsp\;M1 Garand rifle.<br />\nParticipation in event qualifies shooter to purchase an M1 Garand from the Civilian Marksmanship Program.<br />\nClassroom &amp\; Live Fire open to the first 38 entrants.<br />\nEvent requires each participant to provide their individual eye and hearing protection.<br />\nOpen to members and non members of Brock&#39\;s Gap Training Center.<br />\nRegistration will be limited to the first 38 participants Saturday morning.
LOCATION:Brocks Gap Training Center 3721 South Shades Crest Road Birmingham\, AL 35244 USA From Riverchase Galleria go West on Hwy 150 & turn left onto South Shades Crest Road. Just beyond the traffic light at Trace Crossings turn left into the range @ the Brock's Gap Training Sign. The class will be on the 100 yd range D.
UID:e.145.3517
SEQUENCE:3
DTSTAMP:20260425T102811Z
URL:https://business.shelbychamber.org/events/details/cmp-garand-high-power-shooting-clinic-brock-s-gap-training-center-inc-04-14-2012-3517
END:VEVENT

END:VCALENDAR
