BEGIN:VCALENDAR
VERSION:2.0
PRODID:-//ChamberMaster//Event Calendar 2.0//EN
METHOD:PUBLISH
X-PUBLISHED-TTL:P3D
REFRESH-INTERVAL:P3D
CALSCALE:GREGORIAN
BEGIN:VEVENT
DTSTART:20120223T140000Z
DTEND:20120223T150000Z
X-MICROSOFT-CDO-ALLDAYEVENT:FALSE
SUMMARY:Coffee Chat at McAlister's Deli Pelham
DESCRIPTION:You are invited to Coffee Chat\, a morning networking group on Thursday's at 8 a.m. at the Pelham McAlister's Deli\, Location at 152 Bowling Lane in Pelham. McAlister's provide the coffee and donuts\, everyone else just provides their time and conversation.\nCurrently there are 8 to 10 in the group that meet to network\, socialize\, and drink coffee.  We start at 8 a.m.  We are an informal group so don't worry if you decide to join us and are running a few minutes late. We usually chat for about an hour\, exchange business cards and let everyone know of any special business opportunities they may have at the time. We hope you will join us as another way for businesses to learn about each other and support the community.
X-ALT-DESC;FMTTYPE=text/html:<div>You are invited to&nbsp\;Coffee Chat\, a morning networking group on&nbsp\;Thursday's at 8 a.m. at&nbsp\;the <strong>Pelham McAlister&rsquo\;s Deli\, Location at 152 Bowling Lane in Pelham</strong>.&nbsp\;McAlister&rsquo\;s provide the coffee and donuts\, everyone else just provides their time and conversation.</div><div><br />Currently there are 8 to 10 in the group that meet to network\, socialize\, and drink coffee.&nbsp\; We start at 8 a.m.&nbsp\; We are an informal group so don&rsquo\;t&nbsp\;worry if you decide to join us and are running a&nbsp\;few minutes late. We usually chat for about an hour\, exchange business cards and let everyone know of any special business opportunities they may have at the time.</div><div>&nbsp\;</div><div>We hope you will join us as another way for businesses to learn about each other and support the community.</div>
LOCATION:McAlister's Deli 152 Bowling Lane\, Pelham
UID:e.145.1594
SEQUENCE:3
DTSTAMP:20260425T134749Z
URL:https://business.shelbychamber.org/events/details/coffee-chat-at-mcalister-s-deli-pelham-02-23-2012-1594
END:VEVENT

END:VCALENDAR
