BEGIN:VCALENDAR
VERSION:2.0
PRODID:-//ChamberMaster//Event Calendar 2.0//EN
METHOD:PUBLISH
X-PUBLISHED-TTL:P3D
REFRESH-INTERVAL:P3D
CALSCALE:GREGORIAN
BEGIN:VEVENT
DTSTART:20130118T133000Z
DTEND:20130118T150000Z
X-MICROSOFT-CDO-ALLDAYEVENT:FALSE
SUMMARY:Coffee & Conversation with Senator Slade Blackwell and Mayor Earl Niven
DESCRIPTION:Join Senator Slade Blackwell and Mayor Earl Niven for "Coffee & Conversation" on Friday\, January 18th at 7:30 a.m. at the Chelsea Coffee House. This event provides an informal setting for the public to meet and discuss local issues with Senator Blackwell and Mayor Niven.\n\n		\n\n		Click Here for a printable PDF flyer.\n	\n		 \n	\n		Details:\n	\n		 \n	\n		WHO: Senator Slade Blackwell and Mayor Earl Niven\n	\n		WHEN: Friday\, January 18 at 7:30 a.m.\n	\n		WHERE: Chelsea Coffee House 109 Foothills Parkway\n	\n		 \n	\n		For more information\, please call Anna Catherine Roberson or McLain Leberte at 205-396-1144.
X-ALT-DESC;FMTTYPE=text/html:&nbsp\;<br />\n<div id="yiv1563997472">\n	<p class="yiv1563997472MsoPlainText" id="yui_3_7_2_1_1357839009768_1597" style="padding: 0px\; line-height: normal\; margin: 0in 0in 0pt\; display: block\;">\n		<font face="arial\,helvetica\,sans-serif" id="yui_3_7_2_1_1357839009768_1596">Join Senator Slade Blackwell and Mayor Earl Niven for &quot\;Coffee &amp\; Conversation&quot\; on Friday\, January 18th at 7:30 a.m. at the Chelsea Coffee House. This event provides an informal setting for the public to meet and discuss local issues with&nbsp\;<span class="yshortcuts" id="lw_1357839001_0">Senator Blackwell</span>&nbsp\;and Mayor Niven.<br />\n		<br />\n		<a href="http://cloud.chambermaster.com/userfiles/UserFiles/chambers/145/File/Community%20Events/sladewell.pdf">Click Here for a printable PDF flyer.</a></font></p>\n	<p class="yiv1563997472MsoPlainText" id="yui_3_7_2_1_1357839009768_1666" style="padding: 0px\; line-height: normal\; margin: 0in 0in 0pt\; display: block\;">\n		<font face="arial\,helvetica\,sans-serif">&nbsp\;</font></p>\n	<p class="yiv1563997472MsoPlainText" id="yui_3_7_2_1_1357839009768_1667" style="padding: 0px\; line-height: normal\; margin: 0in 0in 0pt\; display: block\;">\n		<font face="arial\,helvetica\,sans-serif"><strong style="font-weight: bold\;">Details:</strong></font></p>\n	<p class="yiv1563997472MsoPlainText" id="yui_3_7_2_1_1357839009768_1668" style="padding: 0px\; line-height: normal\; margin: 0in 0in 0pt\; display: block\;">\n		<font face="arial\,helvetica\,sans-serif">&nbsp\;</font></p>\n	<p class="yiv1563997472MsoPlainText" id="yui_3_7_2_1_1357839009768_1669" style="padding: 0px\; line-height: normal\; margin: 0in 0in 0pt\; display: block\;">\n		<span style="font-size: 12px\;"><font face="arial\,helvetica\,sans-serif"><strong style="font-weight: bold\;">WHO:</strong>&nbsp\;Senator Slade Blackwell and Mayor Earl Niven</font></span></p>\n	<p class="yiv1563997472MsoPlainText" id="yui_3_7_2_1_1357839009768_1670" style="padding: 0px\; line-height: normal\; margin: 0in 0in 0pt\; display: block\;">\n		<span style="font-size: 12px\;"><font face="arial\,helvetica\,sans-serif"><strong style="font-weight: bold\;">WHEN:</strong>&nbsp\;Friday\, January 18 at 7:30 a.m.</font></span></p>\n	<p class="yiv1563997472MsoPlainText" id="yui_3_7_2_1_1357839009768_1671" style="padding: 0px\; line-height: normal\; margin: 0in 0in 0pt\; display: block\;">\n		<span style="font-size: 12px\;"><font face="arial\,helvetica\,sans-serif"><strong style="font-weight: bold\;">WHERE:</strong>&nbsp\;Chelsea Coffee House 109 Foothills Parkway</font></span></p>\n	<p class="yiv1563997472MsoPlainText" id="yui_3_7_2_1_1357839009768_1830" style="padding: 0px\; line-height: normal\; margin: 0in 0in 0pt\; display: block\;">\n		<font face="arial\,helvetica\,sans-serif">&nbsp\;</font></p>\n	<p class="yiv1563997472MsoPlainText" id="yui_3_7_2_1_1357839009768_1807" style="padding: 0px\; line-height: normal\; margin: 0in 0in 0pt\; display: block\;">\n		<font id="yui_3_7_2_1_1357839009768_1828" size="3"><font face="Consolas" id="yui_3_7_2_1_1357839009768_1827"><font face="arial\,helvetica\,sans-serif" id="yui_3_7_2_1_1357839009768_1829">For more information\, please call Anna Catherine Roberson or McLain Leberte at 205-396-1144.</font><span id="yui_3_7_2_1_1357839009768_1826">&nbsp\; </span></font></font></p>\n</div>\n
LOCATION:Chelsea Coffee House 109 Foothills Parkway Chelsea\, AL 35043
UID:e.145.4443
SEQUENCE:3
DTSTAMP:20260424T202038Z
URL:https://business.shelbychamber.org/events/details/coffee-conversation-with-senator-slade-blackwell-and-mayor-earl-niven-01-18-2013-4443
END:VEVENT

END:VCALENDAR
