BEGIN:VCALENDAR
VERSION:2.0
PRODID:-//ChamberMaster//Event Calendar 2.0//EN
METHOD:PUBLISH
X-PUBLISHED-TTL:P3D
REFRESH-INTERVAL:P3D
CALSCALE:GREGORIAN
BEGIN:VEVENT
DTSTART:20150627T130000Z
DTEND:20150628T030000Z
X-MICROSOFT-CDO-ALLDAYEVENT:FALSE
SUMMARY:Columbiana's Liberty Day Celebration 2015
DESCRIPTION:City of Columbiana Hosting its 29th Annual Liberty Day Parade in June\n\n\n\nThe Greater Shelby County Chamber of Commerce is assisting the City of Columbiana with its 29th Annual Liberty Day Parade. The City of Columbiana began its annual Liberty Day festival in 1986 in honor of the 100th anniversary of the Statue of Liberty.\n\n\n\nIf you would like to have a float in the parade please click here to open and print the Parade Entry Registration Form  and fax back to the Chamber at 663-4524. If you have questions contact Aubri McClendon at the Chamber - 663-4542.\n\n\n\nThere will be vendors\, tons of activities for children and at 3:00PM the Liberty Day Parade will begin. That night there will be live music\, fireworks and the announcement of the Parade Winners at Shelby County High School's Football Field.\n\n\n\nIf you are interested in participating as a vendor\, call Jonathan Harrison at 669-5800 for information or follow this link to visit the City of Columbiana's website for more details and vendor forms for:\n\n\n\nArts and Crafts Vendors 2015\n\nChildren's Activities 2015\n\nFood Vendor 2015
X-ALT-DESC;FMTTYPE=text/html:<br />\n<strong>City of Columbiana Hosting its <a href="http://www.cityofcolumbiana.com/Default.asp?ID=141&amp\;pg=Liberty+Day">29th Annual Liberty Day</a> Parade in June</strong><br />\n<br />\nThe Greater Shelby County Chamber of Commerce is assisting the City of Columbiana with its <a href="http://www.cityofcolumbiana.com/Default.asp?ID=141&amp\;pg=Liberty+Day">29th Annual Liberty Day Parade</a>. The City of Columbiana began its annual Liberty Day festival in 1986 in honor of the 100th anniversary of the Statue of Liberty.<br />\n<br />\n<strong>If you would like to have a float in the parade</strong> please click here to open and print the <strong><a href="http://cloud.chambermaster.com/userfiles/UserFiles/chambers/145/File/Liberty_Day_2015/ColumbianaLibertyDayFloatForm2015.pdf">Parade Entry Registration Form</a> </strong> and fax back to the Chamber at 663-4524. If you have questions contact Aubri McClendon at the Chamber - 663-4542.<br />\n<br />\nThere will be vendors\, tons of activities for children and at 3:00PM the Liberty Day Parade will begin. That night there will be live music\, fireworks and the announcement of the Parade Winners at Shelby County High School&rsquo\;s Football Field.<br />\n<br />\n<strong>If you are interested in participating as a vendor\, call Jonathan Harrison at 669-5800</strong> for information or follow this link to visit the <strong><a href="http://www.cityofcolumbiana.com/Default.asp?ID=141&amp\;pg=Liberty+Day">City of Columbiana&#39\;s website</a></strong> for more details and vendor forms for:<br />\n<br />\nArts and Crafts Vendors 2015<br />\nChildren&#39\;s Activities 2015<br />\nFood Vendor 2015<br />\n<br />\n&nbsp\;
LOCATION:City of Columbiana
UID:e.145.7674
SEQUENCE:3
DTSTAMP:20260422T212900Z
URL:https://business.shelbychamber.org/events/details/columbiana-s-liberty-day-celebration-2015-06-27-2015-7674
END:VEVENT

END:VCALENDAR
