BEGIN:VCALENDAR
VERSION:2.0
PRODID:-//ChamberMaster//Event Calendar 2.0//EN
METHOD:PUBLISH
X-PUBLISHED-TTL:P3D
REFRESH-INTERVAL:P3D
CALSCALE:GREGORIAN
BEGIN:VEVENT
DTSTART:20111203T160000Z
DTEND:20111203T190000Z
X-MICROSOFT-CDO-ALLDAYEVENT:FALSE
SUMMARY:Come See Santa At Victory GMC & Get A $10 Oil Change
DESCRIPTION:Stop By Victory GMC & See Santa!\n\n	 \n\n	Free Photos\, Crafts & Refreshments!!!!\n\n\n If You Bring An Unopened Toy For Our "Toys For Tots" Toy Drive You Can Get A $10 Oil Change While You're Here!!!*\n\n \n\n\n\n*Does not include diesels or synthetic. 5 quarts of oil only. Does not include tax. See dealer for details.
X-ALT-DESC;FMTTYPE=text/html:<p style="text-align: center">\n	<span style="font-size: 14px"><strong>Stop By Victory GMC &amp\; See Santa!</strong></span><br />\n	&nbsp\;</p>\n<p>\n	<span style="font-size: 14px"><strong>Free Photos\, Crafts &amp\; Refreshments!!!!</strong></span></p>\n<br />\n<span style="font-size: 14px"><strong><span _fck_bookmark="1" style="display: none">&nbsp\;</span>If You Bring An Unopened Toy For Our &quot\;Toys For Tots&quot\; Toy Drive You Can Get A $10 Oil Change While You&#39\;re Here!!!*<br />\n<span _fck_bookmark="1" style="display: none">&nbsp\;</span></strong></span><br />\n<br />\n<span style="font-size: 8px">*Does not include diesels or synthetic. 5 quarts of oil only. Does not include tax. See dealer for details.</span>
LOCATION:Victory GMC Trucks In Calera
UID:e.145.3623
SEQUENCE:3
DTSTAMP:20260425T153751Z
URL:https://business.shelbychamber.org/events/details/come-see-santa-at-victory-gmc-get-a-10-oil-change-12-03-2011-3623
END:VEVENT

END:VCALENDAR
