BEGIN:VCALENDAR
VERSION:2.0
PRODID:-//ChamberMaster//Event Calendar 2.0//EN
METHOD:PUBLISH
X-PUBLISHED-TTL:P3D
REFRESH-INTERVAL:P3D
CALSCALE:GREGORIAN
BEGIN:VEVENT
DTSTART:20111210T160000Z
DTEND:20111210T190000Z
X-MICROSOFT-CDO-ALLDAYEVENT:FALSE
SUMMARY:Come See Santa At Victory GMC & Get A $10 Oil Change
DESCRIPTION:Stop By Victory GMC & See Santa!\n\n	\n\n	\n\n	Free Photos\, Crafts & Refreshments!!!!\n\n	\n\n	\n\n	If You Bring An Unopened Toy For Our "Toys For Tots" Toy Drive You Can Get A $10 Oil Change While You're Here!!!*\n\n	\n\n	\n\n	*Does not include diesels or synthetic. 5 quarts of oil only. Does not include tax. See dealer for details.
X-ALT-DESC;FMTTYPE=text/html:<p style="text-align: center">\n	<u><strong><span style="font-size: 16px">Stop By Victory GMC &amp\; See Santa!</span></strong></u><br />\n	<br />\n	<br />\n	<strong><span style="font-size: 16px">Free Photos\, Crafts &amp\; Refreshments!!!!<br />\n	<br />\n	<br />\n	If You Bring An Unopened Toy For Our &quot\;Toys For Tots&quot\; Toy Drive You Can Get A $10 Oil Change While You&#39\;re Here!!!*</span></strong><br />\n	<br />\n	<br />\n	<span style="font-size: 8px">*Does not include diesels or synthetic. 5 quarts of oil only. Does not include tax. See dealer for details.</span></p>\n
LOCATION:Victory GMC Trucks In Calera
UID:e.145.3624
SEQUENCE:3
DTSTAMP:20260425T153356Z
URL:https://business.shelbychamber.org/events/details/come-see-santa-at-victory-gmc-get-a-10-oil-change-12-10-2011-3624
END:VEVENT

END:VCALENDAR
