BEGIN:VCALENDAR
VERSION:2.0
PRODID:-//ChamberMaster//Event Calendar 2.0//EN
METHOD:PUBLISH
X-PUBLISHED-TTL:P3D
REFRESH-INTERVAL:P3D
CALSCALE:GREGORIAN
BEGIN:VEVENT
DTSTART:20110420T133000Z
DTEND:20110420T153000Z
X-MICROSOFT-CDO-ALLDAYEVENT:FALSE
SUMMARY:"Complying With the Fair Labor Standards Act"
DESCRIPTION:"Complying With the Fair Labor Standards Act"\n\n\n\nAre your employees properly classified as exempt and non-exempt (from overtime) under the Fair Labor Standards Act?\n\n\n\nLearn how to audit your workforce to not get ensnared in the continuing wave of litigation filed by employees who claim they should have been paid overtime.
X-ALT-DESC;FMTTYPE=text/html:&quot\;Complying With the Fair Labor Standards Act&quot\;<br />\n<br />\nAre your employees properly classified as exempt and non-exempt (from overtime) under the Fair Labor Standards Act?<br />\n<br />\nLearn how to audit your workforce to not get ensnared in the continuing wave of litigation filed by employees who claim they should have been paid overtime. 
LOCATION:Payroll & Benefit Solutions 2189 Parkway Lake Drive Hoover\, AL 35244
UID:e.145.3378
SEQUENCE:3
DTSTAMP:20260426T033932Z
URL:https://business.shelbychamber.org/events/details/complying-with-the-fair-labor-standards-act-04-20-2011-3378
END:VEVENT

END:VCALENDAR
