BEGIN:VCALENDAR
VERSION:2.0
PRODID:-//ChamberMaster//Event Calendar 2.0//EN
METHOD:PUBLISH
X-PUBLISHED-TTL:P3D
REFRESH-INTERVAL:P3D
CALSCALE:GREGORIAN
BEGIN:VEVENT
DTSTART:20130518T200000Z
DTEND:20130518T220000Z
X-MICROSOFT-CDO-ALLDAYEVENT:FALSE
SUMMARY:COPPELIA a ballet in three acts
DESCRIPTION:Coppelia is a playful\, comedic story of stubborn love\, jealous and mistaken identity. While the story and music date back to the mid 19th century\, the whimsical\, playful banter between it's lovers Swanilda and Franz can translate to any generation\, old or young. AYBCs portrayal of this classical tale has a life and vibrancy that is perfect for a family afternoon out or a pre-dinner date with a loved one.\n\n\n\nFeaturing students of Grebel Dance with\n\nThe Alabama Youth Ballet Company and professionals\n\nDirected by: Deborah and Stevan Grebel \n\n\n\nPlus\, new works by:\n\nJordan Mercer - Jazz\n\nAmanda Willis-Brice - Lyrical\n\nHillary B. Wilson - Tap\n\n\n\nThe Spring Dance Concert is held annually on the third weekend in May. It has been held at Hoover High School and Pelham High School Theatres.\n\n\n\nParticipating in the event are The Alabama Youth Ballet Company and students of Grebel Center for Dance.\n\n\n\nCall  205-987-7234  to see how you can sponsor a performance through The Alabama Youth Ballet Company\, a 501c3 non-profit organization.
X-ALT-DESC;FMTTYPE=text/html:<span style="font-size:12px\;"><span itemprop="description"><span class="fsl"><span mso-fareast-theme-font:="" new="" style="line-height: 115%\;" times="">Coppelia is a playful\, comedic story of stubborn love\, jealous and mistaken identity. While the story and music date back to the mid 19th century\, the whimsical\, playful banter between it&rsquo\;s lovers Swanilda and Franz can translate to any generation\, old or young. AYBCs portrayal of this classical tale has a life and vibrancy that is perfect for a family afternoon out or a pre-dinner date with a loved one.</span><br />\n<br />\nFeaturing students of Grebel Dance with<br />\nThe Alabama Youth Ballet Company and professionals<br />\nDirected by: Deborah and Stevan Grebel&#65279\;<br />\n<br />\nPlus\, new works by:<br />\nJordan Mercer - Jazz<br />\nAmanda Willis-Brice - Lyrical<br />\nHillary B. Wilson - Tap<br />\n<br />\nThe Spring Dance Concert is held annually on the third weekend in May. It has been held at Hoover High School and Pelham High School Theatres.<br />\n<br />\nParticipating in the event are The Alabama Youth Ballet Company and students of Grebel Center for Dance.<br />\n<br />\nCall <span class="skype_pnh_container" dir="ltr" tabindex="-1">&nbsp\;<span class="skype_pnh_highlighting_inactive_common" dir="ltr"><span class="skype_pnh_text_span">205-987-7234</span></span>&nbsp\;</span> to see how you can sponsor a performance through The Alabama Youth Ballet Company\, a 501c3 non-profit organization.</span></span></span><br />\n
LOCATION:Pelham High School Theatre
UID:e.145.4588
SEQUENCE:3
DTSTAMP:20260424T120121Z
URL:https://business.shelbychamber.org/events/details/coppelia-a-ballet-in-three-acts-05-18-2013-4588
END:VEVENT

END:VCALENDAR
