BEGIN:VCALENDAR
VERSION:2.0
PRODID:-//ChamberMaster//Event Calendar 2.0//EN
METHOD:PUBLISH
X-PUBLISHED-TTL:P3D
REFRESH-INTERVAL:P3D
CALSCALE:GREGORIAN
BEGIN:VEVENT
DTSTART:20130212T210000Z
DTEND:20130213T010000Z
X-MICROSOFT-CDO-ALLDAYEVENT:FALSE
SUMMARY:Core Plastic Surgery Invites VIP Patients & a Friend for Special Event
DESCRIPTION:Because Core Plastic Surgery loves our VIP patients\, we invite you & a friend to join us for a special event with discounts this "season of love"\n\n\n\nTuesday\, Feb. 12    3-7 pm\n\n\n\nAll guests receive:\n\n\n\n    Obagi Foaming Gel\n\n    Obagi Toner\n\n    $250 Sciton Laser Gift Certificate\n\n    $250 Vaser Liposelect Gift Certificate\n\n    $250 EXILIS Skin Tight Gift Certificate\n\n\n\nBotox\, Juvederm & Latisse Specials\n\n\n\n    $50 off instantly Botox or Juvederm treatments*\n\n    Buy 2 Juvederm syringes & get 20 Botox units at no charge (must be injected at same time)*\n\n    * Botox and Juvederm offers cannot be combined\n\n    $30 off Latisse Lash Growth System 5ml only $150!\n\n\n\nOur Allergen specialist will be on hand to enroll you in the "Brilliant Distinctions" program and tell you how you can save now and all year!\n\n \n\nGet in on any of these Allergen specials & receive 2 more Botox rebates in 2013!\n\n(Potential savings of $325)\n\n       \n\nFor our VIP Patients & Their Friends! Space Is Limited! Reserve Your Time Today at 205.397.2100\n\n    \n\nClarisonic Pro for Face & Body\n\nCharisonic Pro offers 6x better cleansing\n\nThe perfect Valentine's Gift!\n\n$200\n\n($50 off)\n\n\n\nObagi Skin Care\n\nDr. Core knows the Sciton Micro Laser Peel enhances your results with Obagi. Receive a complimentary Micro Laser Peel treatment ($450 value) with the purchase of your Complete Obagi Skincare System\n\n\n\nComplete Obagi Skincare System offered\n\nat a 40% savings includes:\n\n$100 value       Expert Skincare evaluation\n\n$411 value        Nu-Derm Starter Kit Cleanser\, Clear\, Blender\, Exfoderm\, Hydrate\, SPF 50\n\n$  99 value       ELASTiderm Eye Treatment\n\n$  68 value       Professional-C Serum\n\n$  77 value       Tretinoin\n\n$450 value      PLUS-Micro Laser Peel\n\nA $1205 Value for Only $700\n\n\n\nReplenish your existing Obagi products at a 25% savings today\n\n\n\nAnyone placing a product order of $400 or more will be entered into a drawing for\n\n\n\n    $150 value        Clarisonic Mia\n\n    $240 value        Latisse - Two 3 ml kits\n\n    $336 value        Obagi-C RX Kit\n\n    $220 value        Obagi Travel Kit\n\n    $400 value        EXILIS Skin Tight Treatment
X-ALT-DESC;FMTTYPE=text/html:Because Core Plastic Surgery loves our VIP patients\, we invite you &amp\; a friend to join us for a special event with discounts this &quot\;season of love&quot\;<br />\n<br />\nTuesday\, Feb. 12&nbsp\;&nbsp\;&nbsp\; 3-7 pm<br />\n<br />\nAll guests receive:<br />\n<br />\n&nbsp\;&nbsp\;&nbsp\; Obagi Foaming Gel<br />\n&nbsp\;&nbsp\;&nbsp\; Obagi Toner<br />\n&nbsp\;&nbsp\;&nbsp\; $250 Sciton Laser Gift Certificate<br />\n&nbsp\;&nbsp\;&nbsp\; $250 Vaser Liposelect Gift Certificate<br />\n&nbsp\;&nbsp\;&nbsp\; $250 EXILIS Skin Tight Gift Certificate<br />\n<br />\nBotox\, Juvederm &amp\; Latisse Specials<br />\n<br />\n&nbsp\;&nbsp\;&nbsp\; $50 off instantly Botox or Juvederm treatments*<br />\n&nbsp\;&nbsp\;&nbsp\; Buy 2 Juvederm syringes &amp\; get 20 Botox units at no charge (must be injected at same time)*<br />\n&nbsp\;&nbsp\;&nbsp\; * Botox and Juvederm offers cannot be combined<br />\n&nbsp\;&nbsp\;&nbsp\; $30 off Latisse Lash Growth System 5ml only $150!<br />\n<br />\nOur Allergen specialist will be on hand to enroll you in the &quot\;Brilliant Distinctions&quot\; program and tell you how you can save now and all year!<br />\n&nbsp\;<br />\nGet in on any of these Allergen specials &amp\; receive 2 more Botox rebates in 2013!<br />\n(Potential savings of $325)<br />\n&nbsp\;&nbsp\; &nbsp\;&nbsp\;&nbsp\;&nbsp\;<br />\nFor our VIP Patients &amp\; Their Friends! Space Is Limited! Reserve Your Time Today at 205.397.2100<br />\n&nbsp\;&nbsp\; &nbsp\;<br />\nClarisonic Pro for Face &amp\; Body<br />\nCharisonic Pro offers 6x better cleansing<br />\nThe perfect Valentine&#39\;s Gift!<br />\n$200<br />\n($50 off)<br />\n<br />\nObagi Skin Care<br />\nDr. Core knows the Sciton Micro Laser Peel enhances your results with Obagi. Receive a complimentary Micro Laser Peel treatment ($450 value) with the purchase of your Complete Obagi Skincare System<br />\n<br />\nComplete Obagi Skincare System offered<br />\nat a 40% savings includes:<br />\n$100 value&nbsp\;&nbsp\;&nbsp\;&nbsp\;&nbsp\;&nbsp\; Expert Skincare evaluation<br />\n$411 value&nbsp\;&nbsp\;&nbsp\;&nbsp\;&nbsp\;&nbsp\;&nbsp\; Nu-Derm Starter Kit Cleanser\, Clear\, Blender\, Exfoderm\, Hydrate\, SPF 50<br />\n$&nbsp\; 99 value&nbsp\;&nbsp\;&nbsp\;&nbsp\;&nbsp\;&nbsp\; ELASTiderm Eye Treatment<br />\n$&nbsp\; 68 value&nbsp\;&nbsp\;&nbsp\;&nbsp\;&nbsp\;&nbsp\; Professional-C Serum<br />\n$&nbsp\; 77 value&nbsp\;&nbsp\;&nbsp\;&nbsp\;&nbsp\;&nbsp\; Tretinoin<br />\n$450 value&nbsp\;&nbsp\;&nbsp\;&nbsp\;&nbsp\; PLUS-Micro Laser Peel<br />\nA $1205 Value for Only $700<br />\n<br />\nReplenish your existing Obagi products at a 25% savings today<br />\n<br />\nAnyone placing a product order of $400 or more will be entered into a drawing for<br />\n<br />\n&nbsp\;&nbsp\;&nbsp\; $150 value&nbsp\;&nbsp\;&nbsp\;&nbsp\;&nbsp\;&nbsp\;&nbsp\; Clarisonic Mia<br />\n&nbsp\;&nbsp\;&nbsp\; $240 value&nbsp\;&nbsp\;&nbsp\;&nbsp\;&nbsp\;&nbsp\;&nbsp\; Latisse - Two 3 ml kits<br />\n&nbsp\;&nbsp\;&nbsp\; $336 value&nbsp\;&nbsp\;&nbsp\;&nbsp\;&nbsp\;&nbsp\;&nbsp\; Obagi-C RX Kit<br />\n&nbsp\;&nbsp\;&nbsp\; $220 value&nbsp\;&nbsp\;&nbsp\;&nbsp\;&nbsp\;&nbsp\;&nbsp\; Obagi Travel Kit<br />\n&nbsp\;&nbsp\;&nbsp\; $400 value&nbsp\;&nbsp\;&nbsp\;&nbsp\;&nbsp\;&nbsp\;&nbsp\; EXILIS Skin Tight Treatment
LOCATION:Core Plastic Surgery | Ash Place - Suite 111 | 2100 16th Avenue South | Birmingham | AL | 35205
UID:e.145.4509
SEQUENCE:3
DTSTAMP:20260424T171715Z
URL:https://business.shelbychamber.org/events/details/core-plastic-surgery-invites-vip-patients-a-friend-for-special-event-02-12-2013-4509
END:VEVENT

END:VCALENDAR
