BEGIN:VCALENDAR
VERSION:2.0
PRODID:-//ChamberMaster//Event Calendar 2.0//EN
METHOD:PUBLISH
X-PUBLISHED-TTL:P3D
REFRESH-INTERVAL:P3D
CALSCALE:GREGORIAN
BEGIN:VEVENT
DTSTART:20150508T230000Z
DTEND:20150509T020000Z
X-MICROSOFT-CDO-ALLDAYEVENT:FALSE
SUMMARY:Cornerstone Christian School Auction
DESCRIPTION:Cornerstone Christian School is a private school in rural Alabama serving students in Pre-K3 through 12th grade. Currently we have 214 students. We pride ourselves in the affordability we are able to provide to students from a variety of socioeconomic homes. In order to keep our tuition extremely low\, we offer a scholarship program\, a tuition assistance program\, and hold two school wide fundraisers annually. The Auction\, our Spring Fundraiser\, will be May 8\, 2015. Each grade level is responsible for securing donations to create one or more themed "tables" to be auctioned. The grade level earning the highest bids gets a day out of school and the teacher earns a prize\, also.
X-ALT-DESC;FMTTYPE=text/html:Cornerstone Christian School is a private school in rural Alabama serving students in Pre-K3 through 12th grade. Currently we have 214 students. We pride ourselves in the affordability we are able to provide to students from a variety of socioeconomic homes. In order to keep our tuition extremely low\, we offer a scholarship program\, a tuition assistance program\, and hold two school wide fundraisers annually. The Auction\, our Spring Fundraiser\, will be May 8\, 2015. Each grade level is responsible for securing donations to create one or more themed &quot\;tables&quot\; to be auctioned. The grade level earning the highest bids gets a day out of school and the teacher earns a prize\, also.
LOCATION:Cornerstone Christian School Gym 24975 Hwy 25 Columbiana\, AL 35051
UID:e.145.7629
SEQUENCE:3
DTSTAMP:20260422T230149Z
URL:https://business.shelbychamber.org/events/details/cornerstone-christian-school-auction-05-08-2015-7629
END:VEVENT

END:VCALENDAR
