BEGIN:VCALENDAR
VERSION:2.0
PRODID:-//ChamberMaster//Event Calendar 2.0//EN
METHOD:PUBLISH
X-PUBLISHED-TTL:P3D
REFRESH-INTERVAL:P3D
CALSCALE:GREGORIAN
BEGIN:VEVENT
DTSTART;VALUE=DATE:20160304
DTEND;VALUE=DATE:20160306
TRANSP:TRANSPARENT
X-MICROSOFT-CDO-ALLDAYEVENT:TRUE
SUMMARY:Cornerstone Christian School Consignment Sale
DESCRIPTION:The CCS Junior Class has the responsibility of raising money each year to pay for the Junior/Senior Prom. One of our fundraisers is a Consignment Sale each Fall and Spring. The sale will include clothing\, baby equipment\, toys\, and much more. See the included link to register as a seller. Feel free to contact me with any questions.
X-ALT-DESC;FMTTYPE=text/html:The CCS Junior Class has the responsibility of raising money each year to pay for the Junior/Senior Prom. One of our fundraisers is a Consignment Sale each Fall and Spring. The sale will include clothing\, baby equipment\, toys\, and much more. See the included link to register as a seller. Feel free to contact me with any questions.
LOCATION:Cornerstone Christian School Gymnasium 24975 Hwy 25 Columbiana\, AL 35051
UID:e.145.8309
SEQUENCE:3
DTSTAMP:20260422T074846Z
URL:https://business.shelbychamber.org/events/details/cornerstone-christian-school-consignment-sale-03-04-2016-8309
END:VEVENT

END:VCALENDAR
