BEGIN:VCALENDAR
VERSION:2.0
PRODID:-//ChamberMaster//Event Calendar 2.0//EN
METHOD:PUBLISH
X-PUBLISHED-TTL:P3D
REFRESH-INTERVAL:P3D
CALSCALE:GREGORIAN
BEGIN:VEVENT
DTSTART:20130816T140000Z
DTEND:20130817T170000Z
X-MICROSOFT-CDO-ALLDAYEVENT:FALSE
SUMMARY:Cornerstone Christian School Consignment Sale
DESCRIPTION:A consignment sale for kids clothes\, baby items\, baby furniture\, baby gear\, toys\, and maternity. Anyone is welcome to sign up to sell items and the sale is open to the public. There is a $5.00 registration fee that will be deducted from the sellers earnings.
X-ALT-DESC;FMTTYPE=text/html:A consignment sale for kids clothes\, baby items\, baby furniture\, baby gear\, toys\, and maternity. Anyone is welcome to sign up to sell items and the sale is open to the public. There is a $5.00 registration fee that will be deducted from the sellers earnings. 
LOCATION:Cornerstone Christian School
UID:e.145.4652
SEQUENCE:3
DTSTAMP:20260424T065341Z
URL:https://business.shelbychamber.org/events/details/cornerstone-christian-school-consignment-sale-08-16-2013-4652
END:VEVENT

END:VCALENDAR
