BEGIN:VCALENDAR
VERSION:2.0
PRODID:-//ChamberMaster//Event Calendar 2.0//EN
METHOD:PUBLISH
X-PUBLISHED-TTL:P3D
REFRESH-INTERVAL:P3D
CALSCALE:GREGORIAN
BEGIN:VEVENT
DTSTART:20150306T140000Z
DTEND:20150307T180000Z
X-MICROSOFT-CDO-ALLDAYEVENT:FALSE
SUMMARY:Cornerstone Christian School Junior Class Consignment Sale
DESCRIPTION:The CCS Junior Class is hosting a consignment sale to raise money to pay for Prom. Please visit CCSJuniorFundraisers.weebly.com/consignment-sale.html for more information and to register.\n\n\n\nPlease send us an email with any questions.
X-ALT-DESC;FMTTYPE=text/html:The CCS Junior Class is hosting a consignment sale to raise money to pay for Prom. Please visit <a href="http://business.shelbychamber.org/Events/details/cornerstone-christian-school-junior-class-consignment-sale-7334">CCSJuniorFundraisers.weebly.com/consignment-sale.html</a> for more information and to register.<br />\n<br />\nPlease send us an <a href="mailto:MYoungblood@cornerstonechargers.com?subject=CCCS%20Consignment%20Sale">email</a> with any questions.
LOCATION:Cornerstone Christian School 24975 Hwy 25 Columbiana\, AL
UID:e.145.7334
SEQUENCE:3
DTSTAMP:20260423T033429Z
URL:https://business.shelbychamber.org/events/details/cornerstone-christian-school-junior-class-consignment-sale-03-06-2015-7334
END:VEVENT

END:VCALENDAR
