BEGIN:VCALENDAR
VERSION:2.0
PRODID:-//ChamberMaster//Event Calendar 2.0//EN
METHOD:PUBLISH
X-PUBLISHED-TTL:P3D
REFRESH-INTERVAL:P3D
CALSCALE:GREGORIAN
BEGIN:VEVENT
DTSTART:20130715T140000Z
DTEND:20130719T200000Z
X-MICROSOFT-CDO-ALLDAYEVENT:FALSE
SUMMARY:Cornerstone Church Art Camp
DESCRIPTION:Art camp for kids ages 5-13
X-ALT-DESC;FMTTYPE=text/html:Art camp for kids ages 5-13
LOCATION:
UID:e.145.4656
SEQUENCE:3
DTSTAMP:20260424T102559Z
URL:https://business.shelbychamber.org/events/details/cornerstone-church-art-camp-07-15-2013-4656
END:VEVENT

END:VCALENDAR
