BEGIN:VCALENDAR
VERSION:2.0
PRODID:-//ChamberMaster//Event Calendar 2.0//EN
METHOD:PUBLISH
X-PUBLISHED-TTL:P3D
REFRESH-INTERVAL:P3D
CALSCALE:GREGORIAN
BEGIN:VEVENT
DTSTART:20160614T190000Z
DTEND:20160614T203000Z
X-MICROSOFT-CDO-ALLDAYEVENT:FALSE
SUMMARY:Craft Days
DESCRIPTION:Drop in anytime between 2:00   3:30. All ages welcome. Registration required. Registration begins 1 week prior to craft date.
X-ALT-DESC;FMTTYPE=text/html:<span style="font-family:calibri light\,sans-serif">Drop in anytime between 2:00 &ndash\; 3:30. All ages welcome. Registration required. Registration begins 1 week prior to craft date.</span>
LOCATION:North Shelby Library
UID:e.145.9543
SEQUENCE:3
DTSTAMP:20260422T025846Z
URL:https://business.shelbychamber.org/events/details/craft-days-06-14-2016-9543
END:VEVENT

END:VCALENDAR
