BEGIN:VCALENDAR
VERSION:2.0
PRODID:-//ChamberMaster//Event Calendar 2.0//EN
METHOD:PUBLISH
X-PUBLISHED-TTL:P3D
REFRESH-INTERVAL:P3D
CALSCALE:GREGORIAN
BEGIN:VEVENT
DTSTART:20150429T200000Z
DTEND:20150429T210000Z
X-MICROSOFT-CDO-ALLDAYEVENT:FALSE
SUMMARY:Cybersecurity & You
DESCRIPTION:A presentation by the Shelby County Sheriff?s Office on ways to protect you and your family when using the Internet. The Child Internet Safety Protection Act will be discussed.
X-ALT-DESC;FMTTYPE=text/html:A presentation by the Shelby County Sheriff?s Office on ways to protect you and your family when using the Internet. The Child Internet Safety Protection Act will be discussed.
LOCATION:Mildred B. Harrison Regional Library 50 Lester Street Columbiana AL 35051
UID:e.145.7646
SEQUENCE:3
DTSTAMP:20260423T002817Z
URL:https://business.shelbychamber.org/events/details/cybersecurity-you-04-29-2015-7646
END:VEVENT

END:VCALENDAR
