BEGIN:VCALENDAR
VERSION:2.0
PRODID:-//ChamberMaster//Event Calendar 2.0//EN
METHOD:PUBLISH
X-PUBLISHED-TTL:P3D
REFRESH-INTERVAL:P3D
CALSCALE:GREGORIAN
BEGIN:VEVENT
DTSTART:20150829T003000Z
DTEND:20150829T023000Z
X-MICROSOFT-CDO-ALLDAYEVENT:FALSE
SUMMARY:Damon Johnson: Solo Acoustic Concert
DESCRIPTION:Legendary Rocker Damon Johnson brings his acoustic show for one night only the SCAC!  Damon Johnson's credits include: Whisky Falls\, Brother Cane\, Thin Lizzy\, Alice Cooper and The Black Star Riders. All seats general admission. \n\nDoors open at 7:00pm.  Show starts at 7:30pm.  General Admission Seating. \n\nClick to order tickets\, $25.00
X-ALT-DESC;FMTTYPE=text/html:<p><span style="font-size:medium"><span style="font-family:arial">Legendary Rocker Damon Johnson brings his acoustic show for one night only the SCAC!&nbsp\; Damon Johnson&#39\;s credits include: Whisky Falls\, Brother Cane\, Thin Lizzy\, Alice Cooper and The Black Star Riders. All seats general admission.&nbsp\;</span></span></p>\n\n<p><span style="color:rgb(0\, 0\, 255)"><span style="font-size:medium"><span style="font-family:arial">Doors open at 7:00pm.&nbsp\; Show starts at 7:30pm.&nbsp\; General Admission Seating. </span></span></span></p>\n\n<p><a href="https://www.shelbycountyartscouncil.com/shop/915/Performance%3A+Damon+Johnson%2C+Acoustic.htm"><span style="font-size:medium"><span style="font-family:arial">Click to order tickets\, $25.00&nbsp\; </span></span></a></p>\n
LOCATION:Shelby County Arts Council 104 Mildred Street Columbiana\, AL 35051
UID:e.145.7770
SEQUENCE:3
DTSTAMP:20260422T183729Z
URL:https://business.shelbychamber.org/events/details/damon-johnson-solo-acoustic-concert-08-28-2015-7770
END:VEVENT

END:VCALENDAR
