BEGIN:VCALENDAR
VERSION:2.0
PRODID:-//ChamberMaster//Event Calendar 2.0//EN
METHOD:PUBLISH
X-PUBLISHED-TTL:P3D
REFRESH-INTERVAL:P3D
CALSCALE:GREGORIAN
BEGIN:VEVENT
DTSTART:20140427T193000Z
DTEND:20140427T213000Z
X-MICROSOFT-CDO-ALLDAYEVENT:FALSE
SUMMARY:Danny Brooks - Miracles for Breakfast
DESCRIPTION:Danny Brooks 'Texassippi Soul Man'\, now settled in Llano Texas has mixed the best of both Texas and Mississippi and calls it 'Texassippi'.\n\n\n\nIn Danny's music you'll hear about his soulful personal journey of conquering addictions and getting his life back on the right track. You will also hear some good ol' foot stompin' blues and gospel music\, both original and classic. In our show Danny will have time to talk about his book\, his song writing and his life experience of course there will be plenty of music.\n\n\n\nRegional favorites "2BLU" will warm up the stage for Danny with an acoustic duo set\, be sure to get there early. Doors open at 2 pm. 2BLU starts at 2:30 pm.
X-ALT-DESC;FMTTYPE=text/html:Danny Brooks &#39\;Texassippi Soul Man&#39\;\, now settled in Llano Texas has mixed the best of both Texas and Mississippi and calls it &#39\;Texassippi&#39\;.<br />\n<br />\nIn Danny&rsquo\;s music you&rsquo\;ll hear about his soulful personal journey of conquering addictions and getting his life back on the right track. You will also hear some good ol&rsquo\; foot stompin&rsquo\; blues and gospel music\, both original and classic. In our show Danny will have time to talk about his book\, his song writing and his life experience&hellip\;of course there will be plenty of music.<br />\n<br />\nRegional favorites &ldquo\;2BLU&rdquo\; will warm up the stage for Danny with an acoustic duo set\, be sure to get there early. Doors open at 2 pm. 2BLU starts at 2:30 pm.
LOCATION:Shelby County Arts Council 104 Mildred Street Columbiana\, AL 35051
UID:e.145.5337
SEQUENCE:3
DTSTAMP:20260423T183513Z
URL:https://business.shelbychamber.org/events/details/danny-brooks-miracles-for-breakfast-04-27-2014-5337
END:VEVENT

END:VCALENDAR
