BEGIN:VCALENDAR
VERSION:2.0
PRODID:-//ChamberMaster//Event Calendar 2.0//EN
METHOD:PUBLISH
X-PUBLISHED-TTL:P3D
REFRESH-INTERVAL:P3D
CALSCALE:GREGORIAN
BEGIN:VEVENT
DTSTART:20170203T140000Z
DTEND:20170205T230000Z
X-MICROSOFT-CDO-ALLDAYEVENT:FALSE
SUMMARY:Davis Cup Tie
DESCRIPTION:Be a part of history as Birmingham welcomes the Davis Cup. The best-of-five match series will be played at the Legacy Arena at the BJCC on February 3-5 and you don't want to miss out. Tickets start as low as $30 and can be purchased online at www.usta.com/daviscup\, so buy yours today!
X-ALT-DESC;FMTTYPE=text/html:Be a part of history as Birmingham welcomes the Davis Cup. The best-of-five match series will be played at the Legacy Arena at the BJCC on February 3-5 and you don&rsquo\;t want to miss out. Tickets start as low as $30 and can be purchased online at <a href="http://www.usta.com/daviscup">www.usta.com/daviscup</a>\, so buy yours today!
LOCATION:BJCC
UID:e.145.9948
SEQUENCE:3
DTSTAMP:20260421T101345Z
URL:https://business.shelbychamber.org/events/details/davis-cup-tie-9948
END:VEVENT

END:VCALENDAR
