BEGIN:VCALENDAR
VERSION:2.0
PRODID:-//ChamberMaster//Event Calendar 2.0//EN
METHOD:PUBLISH
X-PUBLISHED-TTL:P3D
REFRESH-INTERVAL:P3D
CALSCALE:GREGORIAN
BEGIN:VEVENT
DTSTART:20130412T140000Z
DTEND:20130421T210000Z
X-MICROSOFT-CDO-ALLDAYEVENT:FALSE
SUMMARY:Day Out With Thomas
DESCRIPTION:All little engineers are invited to take a 25-minute train ride with Thomas!  The fun-filled family experience includes photos with Sir Topham Hatt\, putt-putt golf\, maze\, jump station\, bubble station\, temporary tattoos\, storytelling\, videos\, live music and hands-on fun in the Imagination Station!  Purchase delicious food from vendors on site\, or bring your own picnic!  You'll find commemorative activities\, merchandise and give-aways available ONLY at this Day Out With Thomas event. \n\n	Advance purchase recommended.  Tickets and info at www.ticketweb.com/dowt or call 866.468.7630
X-ALT-DESC;FMTTYPE=text/html:<p class="MsoNormal" style="text-align:justify">\n	<span style="font-size:10.0pt\;\nfont-family:Arial">All little engineers are invited to take a 25-minute train ride with Thomas!&nbsp\; The fun-filled family experience includes photos with Sir Topham Hatt\, putt-putt golf\, maze\, jump station\, bubble station\, temporary tattoos\, storytelling\, videos\, live music and hands-on fun in the Imagination Station!&nbsp\; Purchase delicious food from vendors on site\, or bring your own picnic!&nbsp\; You&#39\;ll find commemorative activities\, merchandise and give-aways available ONLY at this Day Out With Thomas event. <o:p></o:p></span></p>\n<p class="MsoNormal">\n	<b><span style="font-size:10.0pt\;font-family:Arial">Advance purchase recommended.&nbsp\; Tickets and info at <a href="http://www.ticketweb.com/dowt">www.ticketweb.com/dowt</a> or call <span style="color:blue">866.468.7630</span><o:p></o:p></span></b></p>\n
LOCATION:Heart of Dixie Railroad Museum 1919 9th St\, Calera\, AL 35040
UID:e.145.4563
SEQUENCE:3
DTSTAMP:20260424T134310Z
URL:https://business.shelbychamber.org/events/details/day-out-with-thomas-04-12-2013-4563
END:VEVENT

END:VCALENDAR
