BEGIN:VCALENDAR
VERSION:2.0
PRODID:-//ChamberMaster//Event Calendar 2.0//EN
METHOD:PUBLISH
X-PUBLISHED-TTL:P3D
REFRESH-INTERVAL:P3D
CALSCALE:GREGORIAN
BEGIN:VEVENT
DTSTART:20170201T130000Z
DTEND:20170228T180000Z
X-MICROSOFT-CDO-ALLDAYEVENT:FALSE
SUMMARY:Dentistry Month at Cahaba Valley Animal Clinic
DESCRIPTION:Is your pet displaying any of these signs? -Bad breath -Difficulty eating -Pawing or rubbing at mouth -Excessive drooling We know your pet's teeth are important to their overall health\, and we now offer full-service dental care! We would also like to offer 10% OFF the dental cleaning when mentioning this Ad! This is a limited time offer that is too sweet to miss!!
X-ALT-DESC;FMTTYPE=text/html:Is your pet displaying any of these signs? -Bad breath -Difficulty eating -Pawing or rubbing at mouth -Excessive drooling We know your pet&#39\;s teeth are important to their overall health\, and we now offer full-service dental care! We would also like to offer 10% OFF the dental cleaning when mentioning this Ad! This is a limited time offer that is too sweet to miss!!
LOCATION:2209 Cahaba Valley Drive Birmingham\, Alabama 35242
UID:e.145.10367
SEQUENCE:3
DTSTAMP:20260421T103836Z
URL:https://business.shelbychamber.org/events/details/dentistry-month-at-cahaba-valley-animal-clinic-10367
END:VEVENT

END:VCALENDAR
