BEGIN:VCALENDAR
VERSION:2.0
PRODID:-//ChamberMaster//Event Calendar 2.0//EN
METHOD:PUBLISH
X-PUBLISHED-TTL:P3D
REFRESH-INTERVAL:P3D
CALSCALE:GREGORIAN
BEGIN:VEVENT
DTSTART:20130217T200000Z
DTEND:20130217T230000Z
X-MICROSOFT-CDO-ALLDAYEVENT:FALSE
SUMMARY:Dessertissements 2013
DESCRIPTION:This year marks the fifth year the Alabama Youth Ballet Guild has held this fundraiser for the AYBC. The event begins with a silent auction\, desserts and wine-tasting\, with entertainment by Fiddlin' in the Parlor. When the bidding is over\, the guests will join artistic director Stevan Grebel in the large Studio I for an intimate performance by the Alabama Youth Ballet Company. Door prizes will be given away during the course of the show. After the performance\, guests are invited back to the auction area for some more light entertainment and to claim their winnings.\n\n\n\nThank you to the following:\n\n\n\nInnovative Sound - Flatscreen TV\n\nAlan's Invitations\n\nThomas Andrews Artist\n\nLocal pottery artist\n\n3 nights at Seachase Condominium Resort at Orange Beach\n\nDining Gift Certificates\n\n2 One Hour Massages\n\nGift Baskets\n\nStevan Grebel\n\nDeborah Grebel\n\nFiddlin' in the Parlor\n\n...more to come...to donate auction items\, call 205-987-7234.\n\n\n\n\n\nEvent Schedule:\n\n2:00 - Silent Auction begins as guests enjoy wine\, desserts and music by Fiddlin' in the Parlor. Children's area for mask-making.\n\n\n\n3:30 - Bidding ends\n\n\n\n3:40 - Performance begins\n\n\n\n4:10 - Final mingle and dancing with Fiddlin' in the Parlor\n\n\n\nTickets: $15 per person or $25 per couple\, $10 Children & Students\, Children under 5 - Free.\n\n\n\nChairpersons:\n\nGeneral - Sabrina Murray\, Paula Macklin and Lizzie Hudson\n\nDecor - Lizzie Hudson and Karen Brown\n\nFood - Catherine Findley and Christy Kitchens\n\n\n\nHonorary Chairperson: Kellye Self\n\n\n\nCorporate Chairperson: Bil Upton
X-ALT-DESC;FMTTYPE=text/html:<span itemprop="description"><span class="fsl">This year marks the fifth year the Alabama Youth Ballet Guild has held this fundraiser for the AYBC. The event begins with a silent auction\, desserts and wine-tasting\, with entertainment by Fiddlin&#39\; in the Parlor. When the bidding is over\, the guests will join artistic director Stevan Grebel in the large Studio I for an intimate performance by the Alabama Youth Ballet Company. Door prizes will be given away during the course of the show. After the performance\, guests are invited back to the auction area for<span class="text_exposed_show"> some more light entertainment and to claim their winnings.<br />\n<br />\nThank you to the following:<br />\n<br />\nInnovative Sound - Flatscreen TV<br />\nAlan&#39\;s Invitations<br />\nThomas Andrews Artist<br />\nLocal pottery artist<br />\n3 nights at Seachase Condominium Resort at Orange Beach<br />\nDining Gift Certificates<br />\n2 One Hour Massages<br />\nGift Baskets<br />\nStevan Grebel<br />\nDeborah Grebel<br />\nFiddlin&#39\; in the Parlor<br />\n...more to come...to donate auction items\, call 205-987-7234.<br />\n<br />\n<br />\nEvent Schedule:<br />\n2:00 - Silent Auction begins as guests enjoy wine\, desserts and music by Fiddlin&#39\; in the Parlor. Children&#39\;s area for mask-making.<br />\n<br />\n3:30 - Bidding ends<br />\n<br />\n3:40 - Performance begins<br />\n<br />\n4:10 - Final mingle and dancing with Fiddlin&#39\; in the Parlor<br />\n<br />\nTickets: $15 per person or $25 per couple\, $10 Children &amp\; Students\, Children under 5 - Free.<br />\n<br />\nChairpersons:<br />\nGeneral - Sabrina Murray\, Paula Macklin and Lizzie Hudson<br />\nDecor - Lizzie Hudson and Karen Brown<br />\nFood - Catherine Findley and Christy Kitchens<br />\n<br />\nHonorary Chairperson: Kellye Self<br />\n<br />\nCorporate Chairperson: Bil Upton </span></span></span>
LOCATION:Grebel Dance Studios 102 Commerce Parkway Pelham\, Alabama 35124
UID:e.145.4504
SEQUENCE:3
DTSTAMP:20260424T183822Z
URL:https://business.shelbychamber.org/events/details/dessertissements-2013-02-17-2013-4504
END:VEVENT

END:VCALENDAR
