BEGIN:VCALENDAR
VERSION:2.0
PRODID:-//ChamberMaster//Event Calendar 2.0//EN
METHOD:PUBLISH
X-PUBLISHED-TTL:P3D
REFRESH-INTERVAL:P3D
CALSCALE:GREGORIAN
BEGIN:VEVENT
DTSTART:20130825T000000Z
DTEND:20130825T020000Z
X-MICROSOFT-CDO-ALLDAYEVENT:FALSE
SUMMARY:Dolores Hydock: In Her Own Fashion
DESCRIPTION:Next up at the SCAC Performance Space is In Her Own Fashion performed by Dolores Hydock on Saturday\, August 24\,2013.   In Her Own Fashion is based on the true story of Ninette Griffith\, a 96-year-old Birmingham native with a silk-and-chiffon Southern accent and a brass-and-iron spirit. Funny\, irreverent\, ambitious\, and unflinchingly honest\, this elegantly independent woman lived a life that followed no one else's pattern\, a life that unfolds in these stories of reckless romance\, celebrity hi-jinks\, fashion disasters\, and heartbreaking loss.
X-ALT-DESC;FMTTYPE=text/html:<span style="line-height: 115%\; font-family: &quot\;Times New Roman&quot\;\,&quot\;serif&quot\;\; font-size: 12pt\; mso-fareast-font-family: &quot\;Times New Roman&quot\;\;"><o:p><span style="font-family: Arial\;"><span style="font-size: small\;">Next up at the SCAC Performance Space is <u>In Her Own Fashion</u> performed by Dolores Hydock on <u>Saturday\, August 24\,2013</u>.&nbsp\;&nbsp\; In Her Own Fashion is based on the true story of Ninette Griffith\, a 96-year-old Birmingham native with a silk-and-chiffon Southern accent and a brass-and-iron spirit. Funny\, irreverent\, ambitious\, and unflinchingly honest\, this elegantly independent woman lived a life that followed no one else&rsquo\;s pattern\, a life that unfolds in these stories of reckless romance\, celebrity hi-jinks\, fashion disasters\, and heartbreaking loss. </span></span></o:p></span>
LOCATION:Shelby County Arts Council\, 104 Mildred Street\, Columbiana\, AL 35051
UID:e.145.4686
SEQUENCE:3
DTSTAMP:20260424T085752Z
URL:https://business.shelbychamber.org/events/details/dolores-hydock-in-her-own-fashion-08-24-2013-4686
END:VEVENT

END:VCALENDAR
