BEGIN:VCALENDAR
VERSION:2.0
PRODID:-//ChamberMaster//Event Calendar 2.0//EN
METHOD:PUBLISH
X-PUBLISHED-TTL:P3D
REFRESH-INTERVAL:P3D
CALSCALE:GREGORIAN
BEGIN:VEVENT
DTSTART:20161011T230000Z
DTEND:20161012T010000Z
X-MICROSOFT-CDO-ALLDAYEVENT:FALSE
SUMMARY:Domestic violence Awareness Seminar and Forum
DESCRIPTION:Hope's Door is hosting a Domestic Violence Awareness seminar and forum. We will have guest speakers and a forum at the end to ask questions. This event is to encourage leaders to be aware and to know what to do. We will be introducing the SAVE program\, serving abused victims effectively. Come and learn how you can be a part of the solution!
X-ALT-DESC;FMTTYPE=text/html:Hope&#39\;s Door is hosting a Domestic Violence Awareness seminar and forum. We will have guest speakers and a forum at the end to ask questions. This event is to encourage leaders to be aware and to know what to do. We will be introducing the SAVE program\, serving abused victims effectively. Come and learn how you can be a part of the solution!
LOCATION:221 King's Home Drive Greeley Chapel Chelsea\, AL 35043
UID:e.145.9783
SEQUENCE:3
DTSTAMP:20260421T182831Z
URL:https://business.shelbychamber.org/events/details/domestic-violence-awareness-seminar-and-forum-9783
END:VEVENT

END:VCALENDAR
