BEGIN:VCALENDAR
VERSION:2.0
PRODID:-//ChamberMaster//Event Calendar 2.0//EN
METHOD:PUBLISH
X-PUBLISHED-TTL:P3D
REFRESH-INTERVAL:P3D
CALSCALE:GREGORIAN
BEGIN:VEVENT
DTSTART:20170304T163000Z
DTEND:20170304T173000Z
X-MICROSOFT-CDO-ALLDAYEVENT:FALSE
SUMMARY:Dr. Seuss Birthday Bash
DESCRIPTION:Help us celebrate the birthday of one of our favorite authors! Bring the whole family for snacks\, hands-on science activities\, cupcake decorating\, and STEM learning for all ages! Come dressed to make a mess. No registration required.
X-ALT-DESC;FMTTYPE=text/html:<span style="color:rgb(87\, 90\, 93)\; font-family:helvetica neue\,helvetica\,arial\,sans-serif">Help us celebrate the birthday of one of our favorite authors! Bring the whole family for snacks\, hands-on science activities\, cupcake decorating\, and STEM learning for all ages! Come dressed to make a mess. No registration required.&nbsp\;</span>
LOCATION:North Shelby Library 5521 Cahaba Valley Road Birmingham\, AL 35242
UID:e.145.10470
SEQUENCE:3
DTSTAMP:20260421T090825Z
URL:https://business.shelbychamber.org/events/details/dr-seuss-birthday-bash-10470
END:VEVENT

END:VCALENDAR
