BEGIN:VCALENDAR
VERSION:2.0
PRODID:-//ChamberMaster//Event Calendar 2.0//EN
METHOD:PUBLISH
X-PUBLISHED-TTL:P3D
REFRESH-INTERVAL:P3D
CALSCALE:GREGORIAN
BEGIN:VEVENT
DTSTART:20150422T170000Z
DTEND:20150422T180000Z
X-MICROSOFT-CDO-ALLDAYEVENT:FALSE
SUMMARY:Drayer Physical Therapy Institute Ribbon Cutting
DESCRIPTION:Please join us and the Calera Chamber of Commerce for a RIbbon Cutting to celebrate the NEW Drayer Physical Therapy Location in Calera!
X-ALT-DESC;FMTTYPE=text/html:Please join us and the Calera Chamber of Commerce for a RIbbon Cutting to celebrate the NEW Drayer Physical Therapy Location in Calera!&nbsp\;&nbsp\;&nbsp\;
LOCATION:They are located at 80 Highway 304\, Calera\, 35040. Located beside the American Family Care off of Highway 31 in Calera across the street from Walmart.
UID:e.145.7588
SEQUENCE:3
DTSTAMP:20260423T003237Z
URL:https://business.shelbychamber.org/events/details/drayer-physical-therapy-institute-ribbon-cutting-04-22-2015-7588
END:VEVENT

END:VCALENDAR
