BEGIN:VCALENDAR
VERSION:2.0
PRODID:-//ChamberMaster//Event Calendar 2.0//EN
METHOD:PUBLISH
X-PUBLISHED-TTL:P3D
REFRESH-INTERVAL:P3D
CALSCALE:GREGORIAN
BEGIN:VEVENT
DTSTART:20140320T230000Z
DTEND:20140414T010000Z
X-MICROSOFT-CDO-ALLDAYEVENT:FALSE
SUMMARY:Dream Mecca - Gallery Exhibit and Opening
DESCRIPTION:The Dream Mecca Artist Group consists of 5 Alabama based artists from diverse styles but similar attitudes! The group originated and bases itself out of The Daniel Day Art Gallery in Birmingham\, AL.\n\n\n\nArtists in the group are impressionist painter Pam Bailey\, abstract artist Jay Strong\, neo-classical artist William Jeffrey Faulk\, published illustrator Susan Brydenbaugh and Cescelia Llorente. Exhibiting at the Shelby Arts Council Gallery\, 104 Mildred Street\, Columbiana\, AL 35051.\n\n\n\nOpening Artist Reception: Thursday\, March 13\, 2014\, from 6 to 8 PM. Free with Live music with Matt Wiley. The exhibit dates are March 13\, 2014 through April 7\, 2014. Gallery Hours are Monday   Thursday\, 10am   5pm.
X-ALT-DESC;FMTTYPE=text/html:The Dream Mecca Artist Group consists of 5 Alabama based artists from diverse styles but similar attitudes! The group originated and bases itself out of The Daniel Day Art Gallery in Birmingham\, AL.<br />\n<br />\nArtists in the group are impressionist painter Pam Bailey\, abstract artist Jay Strong\, neo-classical artist William Jeffrey Faulk\, published illustrator Susan Brydenbaugh and Cescelia Llorente. Exhibiting at the Shelby Arts Council Gallery\, 104 Mildred Street\, Columbiana\, AL 35051.<br />\n<br />\nOpening Artist Reception: Thursday\, March 13\, 2014\, from 6 to 8 PM. Free with Live music with Matt Wiley. The exhibit dates are March 13\, 2014 through April 7\, 2014. Gallery Hours are Monday &ndash\; Thursday\, 10am &ndash\; 5pm.
LOCATION:Shelby County Arts Council 104 Mildred Street Columbiana\, AL 35051
UID:e.145.5090
SEQUENCE:3
DTSTAMP:20260423T200808Z
URL:https://business.shelbychamber.org/events/details/dream-mecca-gallery-exhibit-and-opening-03-20-2014-5090
END:VEVENT

END:VCALENDAR
