BEGIN:VCALENDAR
VERSION:2.0
PRODID:-//ChamberMaster//Event Calendar 2.0//EN
METHOD:PUBLISH
X-PUBLISHED-TTL:P3D
REFRESH-INTERVAL:P3D
CALSCALE:GREGORIAN
BEGIN:VEVENT
DTSTART:20150108T220000Z
DTEND:20150109T000000Z
X-MICROSOFT-CDO-ALLDAYEVENT:FALSE
SUMMARY:Drinks on the Links!
DESCRIPTION:Join SisterGolf for a Happy Hour like no other. Drinks on the Links will begin on January 8th\, and continue every 2nd and 4th Thursday from January through March. This event will feature 60 minutes of hands on golf instruction with Max Doster\, Golf Professional at Highland Park Golf Course. Immediately afterwards\, enjoy drink specials in the clubhouse\, and network with fellow Birmingham area female professionals. Please feel free to bring your own clubs or we will have some available for your use. Please arrive 15 minutes early. Dress warmly and comfortably.
X-ALT-DESC;FMTTYPE=text/html:Join SisterGolf for a Happy Hour like no other. Drinks on the Links will begin on January 8th\, and continue every 2nd and 4th Thursday from January through March. This event will feature 60 minutes of hands on golf instruction with Max Doster\, Golf Professional at Highland Park Golf Course. Immediately afterwards\, enjoy drink specials in the clubhouse\, and network with fellow Birmingham area female professionals. Please feel free to bring your own clubs or we will have some available for your use. Please arrive 15 minutes early. Dress warmly and comfortably.
LOCATION:Highland Park Golf Course 3300 Highland Avenue South Birmingham\, AL 35205
UID:e.145.6629
SEQUENCE:3
DTSTAMP:20260423T050137Z
URL:https://business.shelbychamber.org/events/details/drinks-on-the-links-01-08-2015-6629
END:VEVENT

END:VCALENDAR
