BEGIN:VCALENDAR
VERSION:2.0
PRODID:-//ChamberMaster//Event Calendar 2.0//EN
METHOD:PUBLISH
X-PUBLISHED-TTL:P3D
REFRESH-INTERVAL:P3D
CALSCALE:GREGORIAN
BEGIN:VEVENT
DTSTART:20151008T223000Z
DTEND:20151009T000000Z
X-MICROSOFT-CDO-ALLDAYEVENT:FALSE
SUMMARY:Drinks on the Links
DESCRIPTION:Join SisterGolf for a Happy Hour like no other. Drinks on the Links will begin on January 8th\, and continue every 2nd and 4th Thursday. This event will feature 90 minutes of hands on golf instruction with Max Doster\, Golf Professional at Highland Park Golf Course. Immediately afterwards\, enjoy drink specials in the clubhouse\, and network with fellow Birmingham area professionals. Please feel free to bring your own clubs or we will have some available for your use. Please arrive 15 minutes early. Dress code: Golf Attire.
X-ALT-DESC;FMTTYPE=text/html:Join SisterGolf for a Happy Hour like no other. Drinks on the Links will begin on January 8th\, and continue every 2nd and 4th Thursday. This event will feature 90 minutes of hands on golf instruction with Max Doster\, Golf Professional at Highland Park Golf Course. Immediately afterwards\, enjoy drink specials in the clubhouse\, and network with fellow Birmingham area professionals. Please feel free to bring your own clubs or we will have some available for your use. Please arrive 15 minutes early. Dress code: Golf Attire.
LOCATION:Highland Park Golf Course 3300 Highland Avenue South Birmingham\, AL 35205
UID:e.145.7791
SEQUENCE:3
DTSTAMP:20260422T165607Z
URL:https://business.shelbychamber.org/events/details/drinks-on-the-links-10-08-2015-7791
END:VEVENT

END:VCALENDAR
