BEGIN:VCALENDAR
VERSION:2.0
PRODID:-//ChamberMaster//Event Calendar 2.0//EN
METHOD:PUBLISH
X-PUBLISHED-TTL:P3D
REFRESH-INTERVAL:P3D
CALSCALE:GREGORIAN
BEGIN:VEVENT
DTSTART;VALUE=DATE:20150518
DTEND;VALUE=DATE:20150519
TRANSP:TRANSPARENT
X-MICROSOFT-CDO-ALLDAYEVENT:TRUE
SUMMARY:Early Registration for Summer Reading
DESCRIPTION:Come by the Children's Department or go online to pre-register for our Summer Reading Program. Children will receive a special prize for registering during this time. If you register online\, stop by the Children's Department to pick up your Summer Reading bag. No phone registration\, please.
X-ALT-DESC;FMTTYPE=text/html:Come by the Children&rsquo\;s Department or go online to pre-register for our Summer Reading Program. Children will receive a special prize for registering during this time. If you register online\, stop by the Children&rsquo\;s Department to pick up your Summer Reading bag. <strong><u>No phone registration\, please.</u></strong>
LOCATION:
UID:e.145.7642
SEQUENCE:3
DTSTAMP:20260422T230849Z
URL:https://business.shelbychamber.org/events/details/early-registration-for-summer-reading-05-18-2015-7642
END:VEVENT

END:VCALENDAR
